BEGIN:VCALENDAR
VERSION:2.0
PRODID:-//ChamberMaster//Event Calendar 2.0//EN
METHOD:PUBLISH
X-PUBLISHED-TTL:P3D
REFRESH-INTERVAL:P3D
CALSCALE:GREGORIAN
BEGIN:VEVENT
DTSTART:20140913T010000Z
DTEND:20140913T030000Z
X-MICROSOFT-CDO-ALLDAYEVENT:FALSE
SUMMARY:NOYOKO
DESCRIPTION:Beatlemania invades Columbiana for a night of music by the Fab Four.
X-ALT-DESC;FMTTYPE=text/html:Beatlemania invades Columbiana for a night of music by the Fab Four.
LOCATION:Shelby County Arts Council 104 Mildred Street Columbiana\, AL 35051
UID:e.145.6192
SEQUENCE:3
DTSTAMP:20260423T103558Z
URL:https://business.shelbychamber.org/events/details/noyoko-09-12-2014-6192
END:VEVENT

END:VCALENDAR
