BEGIN:VCALENDAR
VERSION:2.0
PRODID:-//ChamberMaster//Event Calendar 2.0//EN
METHOD:PUBLISH
X-PUBLISHED-TTL:P3D
REFRESH-INTERVAL:P3D
CALSCALE:GREGORIAN
BEGIN:VEVENT
DTSTART:20110910T130000Z
DTEND:20110910T220000Z
X-MICROSOFT-CDO-ALLDAYEVENT:FALSE
SUMMARY:NRA Basic Personal Protection In The Home Course \; BGTC
DESCRIPTION:This is an eight-hour course. Students will learn basic defensive shooting skills at simulated and automatic targets\, strategies for home safety and responding to a violent confrontation\, firearms and the law\, how to choose a handgun for self-defense\, and continued opportunities for skill development. Students will receive the NRA Guide to the Basics of Personal Protection In The Home handbook\, NRA Gun Safety Rules brochure\, the Winchester/NRA Marksmanship Qualification booklet\, and course completion certificate. Students should expect to shoot approximately 100 rounds of ammunition.
X-ALT-DESC;FMTTYPE=text/html:This is an eight-hour course. Students will learn basic defensive shooting skills at simulated and automatic targets\, strategies for home safety and responding to a violent confrontation\, firearms and the law\, how to choose a handgun for self-defense\, and continued opportunities for skill development. Students will receive the NRA Guide to the Basics of Personal Protection In The Home handbook\, NRA Gun Safety Rules brochure\, the Winchester/NRA Marksmanship Qualification booklet\, and course completion certificate. Students should expect to shoot approximately 100 rounds of ammunition. 
LOCATION:Brocks Gap Training Center 3721 South Shades Crest Road Birmingham\, AL 35244 USA
UID:e.145.3481
SEQUENCE:3
DTSTAMP:20260425T200534Z
URL:https://business.shelbychamber.org/events/details/nra-basic-personal-protection-in-the-home-course-bgtc-09-10-2011-3481
END:VEVENT

END:VCALENDAR
