BEGIN:VCALENDAR
VERSION:2.0
PRODID:-//ChamberMaster//Event Calendar 2.0//EN
METHOD:PUBLISH
X-PUBLISHED-TTL:P3D
REFRESH-INTERVAL:P3D
CALSCALE:GREGORIAN
BEGIN:VEVENT
DTSTART;VALUE=DATE:20140519
DTEND;VALUE=DATE:20140520
TRANSP:TRANSPARENT
X-MICROSOFT-CDO-ALLDAYEVENT:TRUE
SUMMARY:Oak Mountain Lanes - Kids Summer FUN 2014
DESCRIPTION:KIDS SUMMER FUN 2014 AT OAK MOUNTAIN LANES!\n\n\n\nKids can bowl two games free every day\n\nMonday thru Friday\n\nMay 19\, 2014 till August 31\, 2014\n\n(Shoe Rental Not Included)\n\n\n\nBowling times Monday - Friday\n\n10AM till 5PM\n\n\n\nOne time $5 Registration Fee\n\n\n\nOak Mountain Lanes\n\n300 Bowling Lane\n\nPelham\, AL 35124\n\n205-403-7466\n\noakmountainlanes.com\n\n\n\nClick here for a printable flier/image:  KIDS SUMMER FUN 2014
X-ALT-DESC;FMTTYPE=text/html:KIDS SUMMER FUN 2014 AT OAK MOUNTAIN LANES!<br />\n<br />\nKids can bowl two games free every day<br />\nMonday thru Friday<br />\nMay 19\, 2014 till August 31\, 2014<br />\n(Shoe Rental Not Included)<br />\n<br />\nBowling times Monday - Friday<br />\n10AM till 5PM<br />\n<br />\nOne time $5 Registration Fee<br />\n<br />\nOak Mountain Lanes<br />\n300 Bowling Lane<br />\nPelham\, AL 35124<br />\n205-403-7466<br />\n<a href="http://www.oakmountainlanes.com/">oakmountainlanes.com</a><br />\n<br />\nClick here for a printable flier/image:&nbsp\; <a href="http://cloud.chambermaster.com/userfiles/UserFiles/chambers/145/File/Community Events/KSFSinglepage.jpg">KIDS SUMMER FUN 2014</a>
LOCATION:Oak Mountain Lanes 300 Bowling Lanes Pelham\, AL 35124 205-403-7466
UID:e.145.5366
SEQUENCE:3
DTSTAMP:20260423T165259Z
URL:https://business.shelbychamber.org/events/details/oak-mountain-lanes-kids-summer-fun-2014-05-19-2014-5366
END:VEVENT

END:VCALENDAR
