BEGIN:VCALENDAR
VERSION:2.0
PRODID:-//ChamberMaster//Event Calendar 2.0//EN
METHOD:PUBLISH
X-PUBLISHED-TTL:P3D
REFRESH-INTERVAL:P3D
CALSCALE:GREGORIAN
BEGIN:VEVENT
DTSTART:20110521T160000Z
DTEND:20110521T170000Z
X-MICROSOFT-CDO-ALLDAYEVENT:FALSE
SUMMARY:Oak Mountain State Park Equestrian Campground Official Grand Opening
DESCRIPTION:STATE OF ALABAMA\n\n	DEPARTMENT OF CONSERVATION AND NATURAL RESOURCES\n\n\nOak Mountain State Park\n\n200 Terrace Drive\n\nPelham\, Al  35124\n\n(205)620-2520\n\nwww.alapark.com/oakmountain\n\n\n\n\n\nThe new Oak Mountain State Park Equestrian Campground will hold its official grand opening/media day on May 21\, 2011 at 11:00 am. Oak Mountain State Park Staff would like to invite everyone out for this great addition to our state park.\n\n\n\n The campsites will be available for rent beginning on 20 May 2011.\n\n\n\nThe camp is available on a "first come first serve" basis. "Travelling" campers without horses will also be able to utilize this campground for 1 night only.  \n\n\n\nThe campground is nestled within the 9\,940 acres of Oak Mountain State park. It has 12 sites: Each site will accommodate a maximum of eight persons with two vehicles\, and one trailer. Rates are $30.00 a night on weekdays and $35.00 on weekends and major holidays.\n\n\n\nAll sites have 50 amp service\, water and sewer hook ups\, dump station for horse waste\, fire rings\, and picnic tables.\n\n\n\nRegistration can be made upon arrival at the front gate of Oak Mountain State Park.\n\n\n\nOak Mountain State Park also offers 14 miles of horse riding trails\, 10 cabins\, fishing in one of our 3 public lakes\, championship golf course\, walking trails\, petting farm\, campground\, and several nature programs.\n\n\n\nMore information about Oak Mountain State Park can be obtained at www.alapark.com/oakmountain or by calling the park office at (205)620-2520.
X-ALT-DESC;FMTTYPE=text/html:<p style="text-align: center\;">\n	<strong>STATE OF ALABAMA<br />\n	DEPARTMENT OF CONSERVATION AND NATURAL RESOURCES</strong></p>\n<br />\nOak Mountain State Park<br />\n200 Terrace Drive<br />\nPelham\, Al&nbsp\; 35124<br />\n(205)620-2520<br />\nwww.alapark.com/oakmountain<br />\n<br />\n<br />\nThe new Oak Mountain State Park Equestrian Campground will hold its official grand opening/media day on May 21\, 2011 at 11:00 am. Oak Mountain State Park Staff would like to invite everyone out for this great addition to our state park.<br />\n<br />\n&nbsp\;The campsites will be available for rent beginning on 20 May 2011.<br />\n<br />\nThe camp is available on a &ldquo\;first come first serve&rdquo\; basis. &ldquo\;Travelling&rdquo\; campers without horses will also be able to utilize this campground for 1 night only. &nbsp\;<br />\n<br />\nThe campground is nestled within the 9\,940 acres of Oak Mountain State park. It has 12 sites: Each site will accommodate a maximum of eight persons with two vehicles\, and one trailer. Rates are $30.00 a night on weekdays and $35.00 on weekends and major holidays.<br />\n<br />\nAll sites have 50 amp service\, water and sewer hook ups\, dump station for horse waste\, fire rings\, and picnic tables.<br />\n<br />\nRegistration can be made upon arrival at the front gate of Oak Mountain State Park.<br />\n<br />\nOak Mountain State Park also offers 14 miles of horse riding trails\, 10 cabins\, fishing in one of our 3 public lakes\, championship golf course\, walking trails\, petting farm\, campground\, and several nature programs.<br />\n<br />\nMore information about Oak Mountain State Park can be obtained at www.alapark.com/oakmountain or by calling the park office at (205)620-2520.
LOCATION:Oak Mountain State Park 200 Terrace Drive Pelham\, Al 35124 (205)620-2520 www.alapark.com/oakmountain
UID:e.145.3400
SEQUENCE:3
DTSTAMP:20260426T034629Z
URL:https://business.shelbychamber.org/events/details/oak-mountain-state-park-equestrian-campground-official-grand-opening-05-21-2011-3400
END:VEVENT

END:VCALENDAR
