BEGIN:VCALENDAR
VERSION:2.0
PRODID:-//ChamberMaster//Event Calendar 2.0//EN
METHOD:PUBLISH
X-PUBLISHED-TTL:P3D
REFRESH-INTERVAL:P3D
CALSCALE:GREGORIAN
BEGIN:VEVENT
DTSTART:20170304T160000Z
DTEND:20170304T180000Z
X-MICROSOFT-CDO-ALLDAYEVENT:FALSE
SUMMARY:Oak Mountain State Park Polar Plunge for Special Olympics
DESCRIPTION:Come jump in a lake for Special Olympics Alabama! There's no better way to show your support for the over 14\,000 athletes of Special Olympics Alabama then to brave the icy lake of Oak Mountain after a long\, hard winter. Come dressed in costume for a chance to win the coveted Best Costume plaque\, prior to the plunge. Enjoy hot treats on the beach\, music by iHeart Radio\, a roaring bon fire\, drinks from Pepsi\, prizes\, and lots of laughs! Register before February 24th for the cheapest ticket to freeze!
X-ALT-DESC;FMTTYPE=text/html:<span style="color:rgb(102\, 106\, 115)\; font-family:benton sans\,helvetica neue\,helvetica\,roboto\,arial\,sans-serif\; font-size:15px">Come jump in a lake for Special Olympics Alabama! There&#39\;s no better way to show your support for the over 14\,000 athletes of Special Olympics Alabama then to brave the icy lake of Oak Mountain after a long\, hard winter. Come dressed in costume for a chance to win the coveted Best Costume plaque\, prior to the plunge. Enjoy hot treats on the beach\, music by iHeart Radio\, a roaring bon fire\, drinks from Pepsi\, prizes\, and lots of laughs! Register before February 24th for the cheapest ticket to freeze!</span>
LOCATION:Oak Mountain State Park beach behind the main office.
UID:e.145.10370
SEQUENCE:3
DTSTAMP:20260421T085031Z
URL:https://business.shelbychamber.org/events/details/oak-mountain-state-park-polar-plunge-for-special-olympics-10370
END:VEVENT

END:VCALENDAR
