BEGIN:VCALENDAR
VERSION:2.0
PRODID:-//ChamberMaster//Event Calendar 2.0//EN
METHOD:PUBLISH
X-PUBLISHED-TTL:P3D
REFRESH-INTERVAL:P3D
CALSCALE:GREGORIAN
BEGIN:VEVENT
DTSTART:20130926T230000Z
DTEND:20130927T000000Z
X-MICROSOFT-CDO-ALLDAYEVENT:FALSE
SUMMARY:Obamacare: 10 Things you need to know
DESCRIPTION:The Patient Protection and Affordable Care Act (PPACA) is a United States federal statue signed into law by Prs. Obama on March 23\, 2010. Together with Health Care Education Reconciliation Act\, it represents the most significant overhaul of the country's healthcare system since the passage of Medicare and Medicaid in 1965.\n\n\n\nPlease join us for this Free workshop to learn more about how it affects you and your loved ones.\n\nSnacks will be provided.\n\n\n\nLocation:  Shelby Ridge Rehab Select\n\n      881 3rd Street Northeast\n\n     Alabaster\n\n  205-620-8500\n\n(located  directly behind Shelby Medical)\n\n\n\nSpeaker: John Holliman\, Attorney at Law\n\nHolliman Estate Planning and Elder Law
X-ALT-DESC;FMTTYPE=text/html:The Patient Protection and Affordable Care Act (PPACA) is a United States federal statue signed into law by Prs. Obama on March 23\, 2010. Together with Health Care Education Reconciliation Act\, it represents the most significant overhaul of the country&#39\;s healthcare system since the passage of Medicare and Medicaid in 1965.<br />\n<br />\nPlease join us for this Free workshop to learn more about how it affects you and your loved ones.<br />\nSnacks will be provided.<br />\n<br />\nLocation:&nbsp\; Shelby Ridge Rehab Select<br />\n&nbsp\;&nbsp\;&nbsp\;&nbsp\;&nbsp\; 881 3rd Street Northeast<br />\n&nbsp\;&nbsp\;&nbsp\;&nbsp\; Alabaster<br />\n&nbsp\; 205-620-8500<br />\n(located&nbsp\; directly behind Shelby Medical)<br />\n<br />\nSpeaker: John Holliman\, Attorney at Law<br />\nHolliman Estate Planning and Elder Law
LOCATION:881 3rd Street Northeast Alabaster
UID:e.145.4726
SEQUENCE:3
DTSTAMP:20260424T051330Z
URL:https://business.shelbychamber.org/events/details/obamacare-10-things-you-need-to-know-09-26-2013-4726
END:VEVENT

END:VCALENDAR
