BEGIN:VCALENDAR
VERSION:2.0
PRODID:-//ChamberMaster//Event Calendar 2.0//EN
METHOD:PUBLISH
X-PUBLISHED-TTL:P3D
REFRESH-INTERVAL:P3D
CALSCALE:GREGORIAN
BEGIN:VEVENT
DTSTART:20150122T220000Z
DTEND:20150122T230000Z
X-MICROSOFT-CDO-ALLDAYEVENT:FALSE
SUMMARY:Oh My Boutique and Gifts Ribbon Cutting
DESCRIPTION:Please join in welcoming Oh My Boutique and Gifts to Alabaster. We will be holding a Ribbon Cutting. They will be having giveaways\, special discounts for attendees and so much more. Come ready to shop!
X-ALT-DESC;FMTTYPE=text/html:Please join in welcoming Oh My Boutique and Gifts to Alabaster. We will be holding a Ribbon Cutting. They will be having giveaways\, special discounts for attendees and so much more. Come ready to shop! &nbsp\;&nbsp\;&nbsp\;
LOCATION:They are located at 72 B Fulton Springs\, Alabaster. Go down highway 119 in Alabaster towards Montevallo you will pass the publix on your left at the next Red Light turn left and there will be a shopping center. They are located in that shopping center.
UID:e.145.6548
SEQUENCE:3
DTSTAMP:20260423T050642Z
URL:https://business.shelbychamber.org/events/details/oh-my-boutique-and-gifts-ribbon-cutting-01-22-2015-6548
END:VEVENT

END:VCALENDAR
