BEGIN:VCALENDAR
VERSION:2.0
PRODID:-//ChamberMaster//Event Calendar 2.0//EN
METHOD:PUBLISH
X-PUBLISHED-TTL:P3D
REFRESH-INTERVAL:P3D
CALSCALE:GREGORIAN
BEGIN:VEVENT
DTSTART:20160212T000000Z
DTEND:20160212T023000Z
X-MICROSOFT-CDO-ALLDAYEVENT:FALSE
SUMMARY:OMI @ Night
DESCRIPTION:OMI @ Night is a family friendly event for business networking. Drinks and hors d'oeuvres will be served. Live music provided by the talented Michael Warren and Cameron Ryan.
X-ALT-DESC;FMTTYPE=text/html:OMI @ Night is a family friendly event for business networking. Drinks and hors d&#39\;oeuvres will be served. Live music provided by the talented Michael Warren and Cameron Ryan.
LOCATION:Ovation Media 2222 Hwy 52 Helena\, AL 35080
UID:e.145.8353
SEQUENCE:3
DTSTAMP:20260422T092729Z
URL:https://business.shelbychamber.org/events/details/omi-night-02-11-2016-8353
END:VEVENT

END:VCALENDAR
