BEGIN:VCALENDAR
VERSION:2.0
PRODID:-//ChamberMaster//Event Calendar 2.0//EN
METHOD:PUBLISH
X-PUBLISHED-TTL:P3D
REFRESH-INTERVAL:P3D
CALSCALE:GREGORIAN
BEGIN:VEVENT
DTSTART:20160414T223000Z
DTEND:20160415T003000Z
X-MICROSOFT-CDO-ALLDAYEVENT:FALSE
SUMMARY:OMI @ Night featuring Kate and the Howlers
DESCRIPTION:OMI @ Night will be Thursday\, April 14th from 5:30pm - 7:30pm. This is a family friends event so everyone is welcome. We will have food\, drinks\, and live music from Kate and the Howlers. We hope you will be able to stop by to join us!
X-ALT-DESC;FMTTYPE=text/html:OMI @ Night will be Thursday\, April 14th from 5:30pm - 7:30pm. This is a family friends event so everyone is welcome. We will have food\, drinks\, and live music from Kate and the Howlers. We hope you will be able to stop by to join us!&nbsp\;
LOCATION:Ovation Media 2222 Hwy 52 Helena\, AL 35080
UID:e.145.9481
SEQUENCE:3
DTSTAMP:20260422T063357Z
URL:https://business.shelbychamber.org/events/details/omi-night-featuring-kate-and-the-howlers-04-14-2016-9481
END:VEVENT

END:VCALENDAR
