BEGIN:VCALENDAR
VERSION:2.0
PRODID:-//ChamberMaster//Event Calendar 2.0//EN
METHOD:PUBLISH
X-PUBLISHED-TTL:P3D
REFRESH-INTERVAL:P3D
CALSCALE:GREGORIAN
BEGIN:VEVENT
DTSTART:20130512T000000Z
DTEND:20130512T020000Z
X-MICROSOFT-CDO-ALLDAYEVENT:FALSE
SUMMARY:Onesies - SCAC presents an evening of short plays
DESCRIPTION:Onesies\n\n	      May 11\, Saturday 7 PM\n\n	      Tickets $15.00 -  avalible online\n\n	      Shelby County Arts Performance Space\n\n	      104 Mildred Street\n\n	      Columbiana\n\n	      205-669-0044\n\n	 \n\n	     Onsies - Presented by the South City Theatre. An evening of short plays from David Ives. There is something sure to tickle everyone's funny bone in this critically acclaimed\, award-winning evening of comedies that combines wit\, intellect\, satire and just plain fun. This South City Theatre's Directors  Showcase features the talents of South Cities newest directors. Be prepared to be amazed by what they can do with a simple set of talented actors\, and the word of one of America's best playwrights. Join us at Shelby County Arts Council's new Performance Space\n\n	located in downtown Columbiana\, next door to the Shelby County Arts Council Gallery.
X-ALT-DESC;FMTTYPE=text/html:<p class="p1">\n	&nbsp\;</p>\n<p class="p2">\n	&nbsp\; &nbsp\;</p>\n<p class="p1">\n	&nbsp\;</p>\n<p class="p2">\n	&nbsp\; &nbsp\; &nbsp\; Onesies</p>\n<p class="p2">\n	&nbsp\; &nbsp\; &nbsp\; May 11\, Saturday 7 PM</p>\n<p class="p2">\n	&nbsp\; &nbsp\; &nbsp\; Tickets $15.00 - &nbsp\;avalible online</p>\n<p class="p2">\n	&nbsp\; &nbsp\; &nbsp\; Shelby County Arts Performance Space</p>\n<p class="p2">\n	&nbsp\; &nbsp\; &nbsp\; 104 Mildred Street</p>\n<p class="p2">\n	&nbsp\; &nbsp\; &nbsp\; Columbiana</p>\n<p class="p2">\n	&nbsp\; &nbsp\; &nbsp\; 205-669-0044</p>\n<p class="p1">\n	&nbsp\;</p>\n<p class="p1">\n	&nbsp\; &nbsp\; &nbsp\;Onsies - Presented by the South City Theatre. An evening of short plays from David Ives. There is something sure to tickle everyone&#39\;s funny bone in this critically acclaimed\, award-winning evening&nbsp\;of comedies that combines wit\, intellect\, satire and just plain fun. This South City Theatre&#39\;s Directors&nbsp\; Showcase features the talents of South Cities newest directors. Be prepared to be amazed&nbsp\;by what they can do with a simple set of talented actors\, and the word of one of America&#39\;s best playwrights.&nbsp\;Join us at Shelby County Arts Council&#39\;s new Performance Space<br />\n	located in downtown Columbiana\, next door to the Shelby County Arts Council Gallery.</p>\n<p class="p2">\n	&nbsp\; &nbsp\; &nbsp\; &nbsp\;&nbsp\;</p>\n
LOCATION:Shelby County Arts Performance Space 102 Mildred Street\, Columbiana\, AL 35051
UID:e.145.4566
SEQUENCE:3
DTSTAMP:20260424T120600Z
URL:https://business.shelbychamber.org/events/details/onesies-scac-presents-an-evening-of-short-plays-05-11-2013-4566
END:VEVENT

END:VCALENDAR
