BEGIN:VCALENDAR
VERSION:2.0
PRODID:-//ChamberMaster//Event Calendar 2.0//EN
METHOD:PUBLISH
X-PUBLISHED-TTL:P3D
REFRESH-INTERVAL:P3D
CALSCALE:GREGORIAN
BEGIN:VEVENT
DTSTART:20111210T160000Z
DTEND:20111210T220000Z
X-MICROSOFT-CDO-ALLDAYEVENT:FALSE
SUMMARY:Open House at Bases Loaded
DESCRIPTION:Open House @ Bases Loaded\n\n	Saturday\, December 10th from 10:00 am - 4:00 pm\n\n	Free clinics and instruction\n\n	throughout the day from our staff & special guests.\n\n	Check this website for a schedule of the day's events on Monday\, December 5th!
X-ALT-DESC;FMTTYPE=text/html:<p class="style478" style="margin-bottom: 0pt\; text-align: center\;">\n	<span style="font-size: 20px\;">Open House @ Bases Loaded</span></p>\n<p class="style289" style="margin-top: 0pt\; margin-bottom: 0pt\; text-align: center\;">\n	<span style="font-size: 20px\;">Saturday\, December 10th from 10:00 am - 4:00 pm</span></p>\n<p class="style477" style="margin-top: 0pt\; margin-bottom: 0pt\; text-align: center\;">\n	<span style="font-size: 20px\;">Free clinics and instruction</span></p>\n<p class="style289" style="margin-top: 0pt\; margin-bottom: 0pt\; text-align: center\;">\n	<span style="font-size: 20px\;">throughout the day from our staff &amp\; special guests.</span></p>\n<p class="style289" style="margin-top: 0pt\; text-align: center\;">\n	<span style="font-size: 20px\;">Check this website for a schedule of the day&#39\;s events on Monday\, December 5th!</span></p>\n
LOCATION:6020 HIGHWAY 119 MONTEVALLO\, AL 35115 (205) 621-5271 - OFFICE
UID:e.145.3625
SEQUENCE:3
DTSTAMP:20260425T154612Z
URL:https://business.shelbychamber.org/events/details/open-house-at-bases-loaded-12-10-2011-3625
END:VEVENT

END:VCALENDAR
