BEGIN:VCALENDAR
VERSION:2.0
PRODID:-//ChamberMaster//Event Calendar 2.0//EN
METHOD:PUBLISH
X-PUBLISHED-TTL:P3D
REFRESH-INTERVAL:P3D
CALSCALE:GREGORIAN
BEGIN:VEVENT
DTSTART:20120329T213000Z
DTEND:20120329T230000Z
X-MICROSOFT-CDO-ALLDAYEVENT:FALSE
SUMMARY:Open House at IBERIABANK
DESCRIPTION:Please join us for an Open House\n\n\n\nThursday\, March 29\, 2012\n\n2695 Pelham Parkway\n\nPelham\, AL\n\n\n\n4:30 - 6:00 P.M.\n\n5:00 P.M. - Ribbon Cutting\n\n\n\niBERIABANK
X-ALT-DESC;FMTTYPE=text/html:Please join us for an Open House<br />\n<br />\nThursday\, March 29\, 2012<br />\n2695 Pelham Parkway<br />\nPelham\, AL<br />\n<br />\n4:30 - 6:00 P.M.<br />\n5:00 P.M. - Ribbon Cutting<br />\n<br />\n<span style="font-size: 16px"><span style="color: #000080"><strong><span style="font-size: 20px"><span>i</span></span>BERIA</strong>BANK</span></span>
LOCATION:Iberiabank 2695 Pelham Pkwy\, Pelham\, AL 35124
UID:e.145.3985
SEQUENCE:3
DTSTAMP:20260425T101903Z
URL:https://business.shelbychamber.org/events/details/open-house-at-iberiabank-03-29-2012-3985
END:VEVENT

END:VCALENDAR
