BEGIN:VCALENDAR
VERSION:2.0
PRODID:-//ChamberMaster//Event Calendar 2.0//EN
METHOD:PUBLISH
X-PUBLISHED-TTL:P3D
REFRESH-INTERVAL:P3D
CALSCALE:GREGORIAN
BEGIN:VEVENT
DTSTART:20160525T143000Z
DTEND:20160525T203000Z
X-MICROSOFT-CDO-ALLDAYEVENT:FALSE
SUMMARY:Open House at LetsLose\, Advanced Weight Loss Calera
DESCRIPTION:You're Invited: Open House at Letslose\,\n\nAdvanced Weight Loss Clinic Calera\n \n\nCome and enjoy tasty\, healthy foods and beverages. We'll have door prizes\, gift basket drawing\, recipes\, information\, and special offers. New patients get $20 off for joining on event day. Letslose patients get double referral when a friend joins our weight loss program on event day.\n\n\n\nMark your calendar and make plans to drop by from 9:30AM until 3:30PM on Wednesday\, May 25. We hope to see you there.
X-ALT-DESC;FMTTYPE=text/html:<div style="text-align: center\;"><br />\n<strong>You&#39\;re Invited: Open House at Letslose\,<br />\nAdvanced Weight Loss Clinic Calera</strong></div>\n&nbsp\;\n\n<div>Come and enjoy tasty\, healthy foods and beverages. We&#39\;ll have door prizes\, gift basket drawing\, recipes\, information\, and special offers. New patients get $20 off for joining on event day. Letslose patients get double referral when a friend joins our weight loss program on event day.<br />\n<br />\nMark your calendar and make plans to drop by from 9:30AM until 3:30PM on Wednesday\, May 25. We hope to see you there.</div>\n
LOCATION:136 Market Place Circle Calera\, AL 35040
UID:e.145.9509
SEQUENCE:3
DTSTAMP:20260422T062854Z
URL:https://business.shelbychamber.org/events/details/open-house-at-letslose-advanced-weight-loss-calera-05-25-2016-9509
END:VEVENT

END:VCALENDAR
