BEGIN:VCALENDAR
VERSION:2.0
PRODID:-//ChamberMaster//Event Calendar 2.0//EN
METHOD:PUBLISH
X-PUBLISHED-TTL:P3D
REFRESH-INTERVAL:P3D
CALSCALE:GREGORIAN
BEGIN:VEVENT
DTSTART:20110621T210000Z
DTEND:20110621T230000Z
X-MICROSOFT-CDO-ALLDAYEVENT:FALSE
SUMMARY:Open House at The Arc of Shelby County
DESCRIPTION:Join Us for an Open House at The Arc of Shelby \n\n	1960 H Chandalar Drive\, Pelham\, Alabama\n\n	Call 205-664-9313 for directions - Located behind Pee Wee's Pawn Shop in Pelham\n\n	\n\n	June 21\, 2011 - 4:00pm-6:00pm\n\n	\n\n	Check Out Our New Look\, Join us for our Ribbon Cutting\, Meet Our Board of Directors\, Junior Council & Staff\, Take a Tour\, Check Out Our Silent Art Auction\, Enjoy Some Fantastic Food & Music\, While Supporting a GREAT Cause! \n\n	 \n\n	Sponsored by: Driver Contracting & Installations\, Inc.
X-ALT-DESC;FMTTYPE=text/html:<p style="text-align: center">\n	<strong><span style="font-size: 16px"><span style="font-family: verdana">Join Us for an Open House at The Arc of Shelby </span></span></strong></p>\n<p style="text-align: center">\n	<span style="font-size: 14px"><span style="font-family: verdana">1960 H Chandalar Drive\, Pelham\, Alabama</span></span></p>\n<p style="text-align: center">\n	<span style="font-size: 14px"><span style="font-family: verdana"><span style="font-size: 12px">Call 205-664-9313 for directions - Located behind Pee Wee&rsquo\;s Pawn Shop in Pelham</span><br />\n	<br />\n	<strong><span style="font-size: 16px">June 21\, 2011 - 4:00pm-6:00pm</span></strong><br />\n	<br />\n	<span style="font-size: 12px">Check Out Our New Look\, Join us for our Ribbon Cutting\, Meet Our Board of Directors\, Junior Council &amp\; Staff\, Take a Tour\, Check Out Our Silent Art Auction\, Enjoy Some Fantastic Food &amp\; Music\, While Supporting a GREAT Cause! </span></span></span><br />\n	&nbsp\;</p>\n<p>\n	<span style="font-size: 14px"><span style="font-family: verdana">Sponsored by: Driver Contracting &amp\; Installations\, Inc.</span></span></p>\n<p style="text-align: center">\n	<br />\n	&nbsp\;</p>\n
LOCATION:1960 H Chandalar Drive\, Pelham\, Alabama
UID:e.145.3439
SEQUENCE:3
DTSTAMP:20260426T005809Z
URL:https://business.shelbychamber.org/events/details/open-house-at-the-arc-of-shelby-county-06-21-2011-3439
END:VEVENT

END:VCALENDAR
