BEGIN:VCALENDAR
VERSION:2.0
PRODID:-//ChamberMaster//Event Calendar 2.0//EN
METHOD:PUBLISH
X-PUBLISHED-TTL:P3D
REFRESH-INTERVAL:P3D
CALSCALE:GREGORIAN
BEGIN:VEVENT
DTSTART:20111030T200000Z
DTEND:20111030T220000Z
X-MICROSOFT-CDO-ALLDAYEVENT:FALSE
SUMMARY:Open House at the Pelham YMCA
DESCRIPTION:Fall Family Open House at the YMCA Pelham\n\n\n\nSunday\, October 30 | 3-5 p.m.\n\n\n\nFree to the Public -- Click here for a PDF printable flier.\n\n\n\nDETAILS\n\n\n\nYMCA Scavenger Hunt\n\nto learn about YMCA programs\n\n\n\nGroup Exercise Demos\n\n\n\nSwim Lesson Demos\n\n\n\nFamily Swim\n\n\n\nFamily Volleyball\n\n\n\nNo joining fee\n\n\n\nGiveaways\n\n\n\nPelham Family Branch\n\n2610 Pelham Parkway Pelham\, AL 35124\n\n664-9622\n\nymcabham.org
X-ALT-DESC;FMTTYPE=text/html:<strong>Fall Family Open House at the YMCA Pelham</strong><br />\n<br />\nSunday\, October 30 | 3-5 p.m.<br />\n<br />\nFree to the Public -- <a href="http://cloud.chambermaster.com/userfiles/UserFiles/chambers/145/File/Community%20Events/2011OpenHouse.pdf">Click here for a PDF printable flier.</a><br />\n<br />\nDETAILS<br />\n<br />\nYMCA Scavenger Hunt<br />\nto learn about YMCA programs<br />\n<br />\nGroup Exercise Demos<br />\n<br />\nSwim Lesson Demos<br />\n<br />\nFamily Swim<br />\n<br />\nFamily Volleyball<br />\n<br />\nNo joining fee<br />\n<br />\nGiveaways<br />\n<br />\nPelham Family Branch<br />\n2610 Pelham Parkway Pelham\, AL 35124<br />\n664-9622<br />\nymcabham.org
LOCATION:Pelham Family Branch 2610 Pelham Parkway Pelham\, AL 35124 664-9622 ymcabham.org
UID:e.145.3544
SEQUENCE:3
DTSTAMP:20260425T183107Z
URL:https://business.shelbychamber.org/events/details/open-house-at-the-pelham-ymca-10-30-2011-3544
END:VEVENT

END:VCALENDAR
