BEGIN:VCALENDAR
VERSION:2.0
PRODID:-//ChamberMaster//Event Calendar 2.0//EN
METHOD:PUBLISH
X-PUBLISHED-TTL:P3D
REFRESH-INTERVAL:P3D
CALSCALE:GREGORIAN
BEGIN:VEVENT
DTSTART:20130815T210000Z
DTEND:20130815T230000Z
X-MICROSOFT-CDO-ALLDAYEVENT:FALSE
SUMMARY:Open House at the Shelby County Arts Council
DESCRIPTION:Join us at our Annual Open House.  Our instructors will be available for you to speak to directly about their classes.  Priority registration will take place at the open house which will ensure you get the class and time you want!\n\n\n\nClass available in drawing\, painting (acrylic\, oil and watercolor)\, pottery\, jewelry making\, photography. \n\n\n\nWeekend Workshops  on the calendar for the Fall:\n\n*September 7 - Pat Hall Watercolor Portraits\n\n*September 14 - Bring on the Ring! Nancy Burleson\n\n*September 21 - Ron Lewis Oil Paining\n\n*October 12 - Ahmad Austin Palette Knife Painting\n\n*October 19 - Intro to Art Metal Clay with Nancy Burleson\n\n\n\nStop by and sign up!  See you there!
X-ALT-DESC;FMTTYPE=text/html:Join us at our Annual Open House.&nbsp\; Our instructors will be available for you to speak to directly about their classes.&nbsp\; Priority registration will take place at the open house which will ensure you get the class and time you want!<br />\n<br />\nClass available in drawing\, painting (acrylic\, oil and watercolor)\, pottery\, jewelry making\, photography.&nbsp\;<br />\n<br />\nWeekend Workshops&nbsp\; on the calendar for the Fall:<br />\n*September 7 - Pat Hall Watercolor Portraits<br />\n*September 14 - Bring on the Ring! Nancy Burleson<br />\n*September 21 - Ron Lewis Oil Paining<br />\n*October 12 - Ahmad Austin Palette Knife Painting<br />\n*October 19 - Intro to Art Metal Clay with Nancy Burleson<br />\n<br />\nStop by and sign up!&nbsp\; See you there! 
LOCATION:Shelby County Arts Council\, 104 Mildred Street\, Columbiana\, AL 35051
UID:e.145.4688
SEQUENCE:3
DTSTAMP:20260424T065708Z
URL:https://business.shelbychamber.org/events/details/open-house-at-the-shelby-county-arts-council-08-15-2013-4688
END:VEVENT

END:VCALENDAR
