BEGIN:VCALENDAR
VERSION:2.0
PRODID:-//ChamberMaster//Event Calendar 2.0//EN
METHOD:PUBLISH
X-PUBLISHED-TTL:P3D
REFRESH-INTERVAL:P3D
CALSCALE:GREGORIAN
BEGIN:VEVENT
DTSTART:20170205T200000Z
DTEND:20170205T220000Z
X-MICROSOFT-CDO-ALLDAYEVENT:FALSE
SUMMARY:Open House Ballantrae This Weekend
DESCRIPTION:You're invited to stop by and visit one of the craftman style homes at Ballantrae!
X-ALT-DESC;FMTTYPE=text/html:You&#39\;re invited to stop by and visit one of the craftman style homes at Ballantrae!<br />\n<br />\n<br />\n&nbsp\;
LOCATION:
UID:e.145.10377
SEQUENCE:3
DTSTAMP:20260421T114650Z
URL:https://business.shelbychamber.org/events/details/open-house-ballantrae-this-weekend-10377
END:VEVENT

END:VCALENDAR
