BEGIN:VCALENDAR
VERSION:2.0
PRODID:-//ChamberMaster//Event Calendar 2.0//EN
METHOD:PUBLISH
X-PUBLISHED-TTL:P3D
REFRESH-INTERVAL:P3D
CALSCALE:GREGORIAN
BEGIN:VEVENT
DTSTART:20170226T190000Z
DTEND:20170226T210000Z
X-MICROSOFT-CDO-ALLDAYEVENT:FALSE
SUMMARY:OPEN HOUSE CrossFit Riverchase
DESCRIPTION:This Open House is a low-key no pressure opportunity to view our facility\, meet our coaches\, and ask questions pertaining to your fitness.
X-ALT-DESC;FMTTYPE=text/html:This Open House is a low-key no pressure opportunity to view our facility\, meet our coaches\, and ask questions pertaining to your fitness.
LOCATION:260 Commerce Parkway Pelham 35124
UID:e.145.10381
SEQUENCE:3
DTSTAMP:20260421T114844Z
URL:https://business.shelbychamber.org/events/details/open-house-crossfit-riverchase-10381
END:VEVENT

END:VCALENDAR
