BEGIN:VCALENDAR
VERSION:2.0
PRODID:-//ChamberMaster//Event Calendar 2.0//EN
METHOD:PUBLISH
X-PUBLISHED-TTL:P3D
REFRESH-INTERVAL:P3D
CALSCALE:GREGORIAN
BEGIN:VEVENT
DTSTART:20140105T200000Z
DTEND:20140105T220000Z
X-MICROSOFT-CDO-ALLDAYEVENT:FALSE
SUMMARY:OPEN HOUSE IN MAYLENE by Keller Williams Realty Susan Lehman & Tracy Cole
DESCRIPTION:GREAT ROOM FEATURES VAULTED CEILING\, COLUMNS\, MARBLE SURROUND FIREPLACE WITH ADJACENT AREA FOR FORMAL DINING\,KITCHEN HAS STAINLESS STEEL APPLIANCES (INCLUDING A REFRIGERATOR)\, BUILT-INS\, BREAKFAST BAR\, PANTRY\, EAT-IN AREA AND LAUNDRY CLOSET\, MASTER BEDROOM IS LARGE AND HAS A WALK-IN CLOSET\, MASTER BATH WITH JETTED TUB AND SEPARATE SHOWER\, TWO ADDITIONAL BEDROOMS\, BOTH WITH NICE SIZE CLOSETS\, AND CEILING FANS. FINISHED LARGE UPSTAIRS BONUS ROOM WHICH WOULD BE A GREAT SPACE FOR AN OFFICE\, FOURTH BEDROOM OR PLAYROOM. KIDS AND PETS CAN ENJOY THE LEVEL YARD\, STERLING GATE IS A POOL COMMUNITY AND IS WITHIN WALKING DISTANCE OF THE PARK! THIS ONE IS TOO GOOD TO MISS\, SO PLAN TO ATTEND THE OPEN HOUSE!
X-ALT-DESC;FMTTYPE=text/html:GREAT ROOM FEATURES VAULTED CEILING\, COLUMNS\, MARBLE SURROUND FIREPLACE WITH ADJACENT AREA FOR FORMAL DINING\,KITCHEN HAS STAINLESS STEEL APPLIANCES (INCLUDING A REFRIGERATOR)\, BUILT-INS\, BREAKFAST BAR\, PANTRY\, EAT-IN AREA AND LAUNDRY CLOSET\, MASTER BEDROOM IS LARGE AND HAS A WALK-IN CLOSET\, MASTER BATH WITH JETTED TUB AND SEPARATE SHOWER\, TWO ADDITIONAL BEDROOMS\, BOTH WITH NICE SIZE CLOSETS\, AND CEILING FANS. FINISHED LARGE UPSTAIRS BONUS ROOM WHICH WOULD BE A GREAT SPACE FOR AN OFFICE\, FOURTH BEDROOM OR PLAYROOM. KIDS AND PETS CAN ENJOY THE LEVEL YARD\, STERLING GATE IS A POOL COMMUNITY AND IS WITHIN WALKING DISTANCE OF THE PARK! THIS ONE IS TOO GOOD TO MISS\, SO PLAN TO ATTEND THE OPEN HOUSE!
LOCATION:125 S Paddington Station\, Maylene AL 35114
UID:e.145.5005
SEQUENCE:3
DTSTAMP:20260423T230510Z
URL:https://business.shelbychamber.org/events/details/open-house-in-maylene-by-keller-williams-realty-susan-lehman-tracy-cole-01-05-2014-5005
END:VEVENT

END:VCALENDAR
