BEGIN:VCALENDAR
VERSION:2.0
PRODID:-//ChamberMaster//Event Calendar 2.0//EN
METHOD:PUBLISH
X-PUBLISHED-TTL:P3D
REFRESH-INTERVAL:P3D
CALSCALE:GREGORIAN
BEGIN:VEVENT
DTSTART:20120329T213000Z
DTEND:20120329T230000Z
X-MICROSOFT-CDO-ALLDAYEVENT:FALSE
SUMMARY:Open House & Ribbon Cutting at IBERIA Bank
DESCRIPTION:Join us for a ribbon cutting ceremony and an open house to follow at iBERIA Bank\, Pelham.  Enjoy networking\, refreshments\, and welcoming iBERIA Bank into our Greater Shelby Chamber family!\n\n\n\nRead more about our host:\n\n\n\nThe IBERIABANK philosophy is to exceed client satisfaction by delivering unparalleled customer service at every point of contact. We are committed to offering products and services customized to meet your financial needs. We provide a comprehensive financial product line including Retail\, Commercial\, Private Banking\, Mortgage\, Treasury Management\, Online Banking and Investment services.\n\n\n\nOur relationship-based approach to banking focuses on making decisions locally\, close to our clients. We recognize that local decision making gives you more time for the things in life that matter most.
X-ALT-DESC;FMTTYPE=text/html:Join us for a ribbon cutting ceremony and an open house to follow at iBERIA Bank\, Pelham.&nbsp\; Enjoy networking\, refreshments\, and welcoming <a href="http://www.iberiabank.com/">iBERIA Bank</a> into our Greater Shelby Chamber family!<br />\n<br />\nRead more about our host:<br />\n<br />\nThe <a href="http://www.iberiabank.com/">IBERIABANK</a> philosophy is to exceed client satisfaction by delivering unparalleled customer service at every point of contact. We are committed to offering products and services customized to meet your financial needs. We provide a comprehensive financial product line including Retail\, Commercial\, Private Banking\, Mortgage\, Treasury Management\, Online Banking and Investment services.<br />\n<br />\nOur relationship-based approach to banking focuses on making decisions locally\, close to our clients. We recognize that local decision making gives you more time for the things in life that matter most.
LOCATION:IBERIABANK 2695 Pelham Parkway Pelham AL 35124 (205) 414-3660
UID:e.145.3943
SEQUENCE:3
DTSTAMP:20260425T104038Z
URL:https://business.shelbychamber.org/events/details/open-house-ribbon-cutting-at-iberia-bank-03-29-2012-3943
END:VEVENT

END:VCALENDAR
