BEGIN:VCALENDAR
VERSION:2.0
PRODID:-//ChamberMaster//Event Calendar 2.0//EN
METHOD:PUBLISH
X-PUBLISHED-TTL:P3D
REFRESH-INTERVAL:P3D
CALSCALE:GREGORIAN
BEGIN:VEVENT
DTSTART:20151204T223000Z
DTEND:20151205T023000Z
X-MICROSOFT-CDO-ALLDAYEVENT:FALSE
SUMMARY:Opening Reception
DESCRIPTION:Opening reception. Wine\, food\, live music and great art! Everyone welcome! Wonderful\, unique gifts.
X-ALT-DESC;FMTTYPE=text/html:Opening reception. Wine\, food\, live music and great art! Everyone welcome! Wonderful\, unique gifts.
LOCATION:Artists Incorporated Gallery 3365 Morgan Drive Vestavia Hills\, Al 35216 205-979-8990
UID:e.145.7934
SEQUENCE:3
DTSTAMP:20260422T123015Z
URL:https://business.shelbychamber.org/events/details/opening-reception-12-04-2015-7934
END:VEVENT

END:VCALENDAR
