BEGIN:VCALENDAR
VERSION:2.0
PRODID:-//ChamberMaster//Event Calendar 2.0//EN
METHOD:PUBLISH
X-PUBLISHED-TTL:P3D
REFRESH-INTERVAL:P3D
CALSCALE:GREGORIAN
BEGIN:VEVENT
DTSTART:20111030T210000Z
DTEND:20111030T230000Z
X-MICROSOFT-CDO-ALLDAYEVENT:FALSE
SUMMARY:Opening Reception and Exhibit featuring Daniel Moore
DESCRIPTION:The Shelby County Arts Council and Wells Fargo Advisors are honored to host an Opening Reception and Exhibit featuring Daniel Moore\, voted 2005 Sports Artist of the Year\, on Sunday\, October 30\, 2011 from 4:00pm   6:00pm at St. Vincent's One Nineteen 7191 Cahaba Valley Road in Birmingham.\n\n\n\nGuests will have the opportunity to meet the artist and enjoy a rare display of original paintings\, watercolors and prints. Daniel Moore will sign prints and his book\, "Iron Bowl Gold"\, both of which will be available for purchase during the reception.\n\n   \n\nThe Daniel Moore exhibit will be on display in November at the Shelby County Arts Council Gallery located on 104 Mildred Street in Columbiana. We can be reached at 205-669-0044.  Exhibit sponsors are Blue Cross Blue Shield of Alabama and Protective Life Corporation.  Visit our website for information about all our classes\, exhibits and events\, www.shelbycountyartscouncil.com.
X-ALT-DESC;FMTTYPE=text/html:The Shelby County Arts Council and Wells Fargo Advisors are honored to host an Opening Reception and Exhibit featuring Daniel Moore\, voted 2005 Sports Artist of the Year\, on Sunday\, October 30\, 2011 from 4:00pm &ndash\; 6:00pm at St. Vincent&#39\;s One Nineteen 7191 Cahaba Valley Road in Birmingham.<br />\n<br />\nGuests will have the opportunity to meet the artist and enjoy a rare display of original paintings\, watercolors and prints. Daniel Moore will sign prints and his book\, &ldquo\;Iron Bowl Gold&rdquo\;\, both of which will be available for purchase during the reception.<br />\n&nbsp\; &nbsp\;<br />\nThe Daniel Moore exhibit will be on display in November at the Shelby County Arts Council Gallery located on 104 Mildred Street in Columbiana. We can be reached at 205-669-0044.&nbsp\; Exhibit sponsors are Blue Cross Blue Shield of Alabama and Protective Life Corporation.&nbsp\; Visit our website for information about all our classes\, exhibits and events\, <a href="http://www.shelbycountyartscouncil.com">www.shelbycountyartscouncil.com</a>.
LOCATION:Sunday\, October 30\, 2011 from 4:00pm 6:00pm at St. Vincent's One Nineteen 7191 Cahaba Valley Road in Birmingham.
UID:e.145.3532
SEQUENCE:3
DTSTAMP:20260425T182438Z
URL:https://business.shelbychamber.org/events/details/opening-reception-and-exhibit-featuring-daniel-moore-10-30-2011-3532
END:VEVENT

END:VCALENDAR
