BEGIN:VCALENDAR
VERSION:2.0
PRODID:-//ChamberMaster//Event Calendar 2.0//EN
METHOD:PUBLISH
X-PUBLISHED-TTL:P3D
REFRESH-INTERVAL:P3D
CALSCALE:GREGORIAN
BEGIN:VEVENT
DTSTART:20141102T190000Z
DTEND:20141102T223000Z
X-MICROSOFT-CDO-ALLDAYEVENT:FALSE
SUMMARY:Out of the Darkness Walk
DESCRIPTION:In the United States\, a person dies by suicide every 13.7 minutes\, claiming more than 38\,000 lives each year. This fall\, hundreds of American Foundation for Suicide Prevention's "Out of the Darkness" Community Walks will take place throughout the nation\, including one in Birmingham\, Alabama. People walk to raise awareness of depression and suicide\, to honor loved ones\, and to raise funds for research\, education\, and survivors of suicide support programs. This year\, the 9th Annual "Out of the Darkness" Community Walk in Birmingham will take place on Sunday\, November 2\, 2014 at Heardmont Park. Registration will open at 1:00 p.m.\, and the walk will begin at 2:30 p.m. There is no registration fee. There will be a survivor area\, with counselors\, for walkers to post pictures of their loved ones. Complimentary refreshments will be available.
X-ALT-DESC;FMTTYPE=text/html:In the United States\, a person dies by suicide every 13.7 minutes\, claiming more than 38\,000 lives each year. This fall\, hundreds of American Foundation for Suicide Prevention&#39\;s &quot\;Out of the Darkness&quot\; Community Walks will take place throughout the nation\, including one in Birmingham\, Alabama. People walk to raise awareness of depression and suicide\, to honor loved ones\, and to raise funds for research\, education\, and survivors of suicide support programs. This year\, the 9th Annual &quot\;Out of the Darkness&quot\; Community Walk in Birmingham will take place on Sunday\, November 2\, 2014 at Heardmont Park. Registration will open at 1:00 p.m.\, and the walk will begin at 2:30 p.m. There is no registration fee. There will be a survivor area\, with counselors\, for walkers to post pictures of their loved ones. Complimentary refreshments will be available.
LOCATION:Heardmont Park 5452 Cahaba Valley Rd Hoover\, AL 35242
UID:e.145.5530
SEQUENCE:3
DTSTAMP:20260423T091612Z
URL:https://business.shelbychamber.org/events/details/out-of-the-darkness-walk-11-02-2014-5530
END:VEVENT

END:VCALENDAR
