BEGIN:VCALENDAR
VERSION:2.0
PRODID:-//ChamberMaster//Event Calendar 2.0//EN
METHOD:PUBLISH
X-PUBLISHED-TTL:P3D
REFRESH-INTERVAL:P3D
CALSCALE:GREGORIAN
BEGIN:VEVENT
DTSTART:20111106T203000Z
DTEND:20111106T220000Z
X-MICROSOFT-CDO-ALLDAYEVENT:FALSE
SUMMARY:Out of the Darkness Walk
DESCRIPTION:This fall\, thousands of people from across the country will participate in one of the American Foundation for Suicide Prevention's "Out of the Darkness" Community Walks\, including one in Birmingham\, Alabama. People walk to raise awareness of depression and suicide\, they walk to honor loved ones\, they walk to raise funds for research\, education\, and survivors of suicide support programs. This year\, the 6th Annual "Out of the Darkness" Community Walk in Birmingham will take place on Sunday\, November 6\, 2011 at Heardmont Park. Registration will open at 1:00 pm and the walk will begin at 2:30 pm. To register go to: www. Afsp.org/Alabama and select the Birmingham Walk. There will be a survivor area\, with counselors\, for walkers to post pictures of their loved ones. Complimentary refreshments will be available
X-ALT-DESC;FMTTYPE=text/html:<p style="margin: 0.0px 0.0px 0.0px 0.0px\; text-indent: 36.0px\; font: 12.0px 'Times New Roman'">\n	<span style="letter-spacing: 0.0px">This fall\, thousands of people from across the country will participate in one of the American Foundation for Suicide Prevention&rsquo\;s <b><i>&ldquo\;Out of the Darkness&rdquo\;</i></b> Community Walks\, including one in Birmingham\, Alabama. People walk to raise awareness of depression&nbsp\;</span>and suicide\, they walk to honor loved ones\, they walk to raise funds for research\, education\, and survivors of suicide support programs.<span class="Apple-style-span" style="font-size: 13px\; "><span style="letter-spacing: 0.0px">&nbsp\;This year\, the 6</span><span style="font: 8.7px 'Times New Roman'\; letter-spacing: 0.0px"><sup>th</sup></span><span style="letter-spacing: 0.0px"> Annual &ldquo\;<b><i>Out of the Darkness&rdquo\; </i></b>Community Walk in Birmingham will take place on <b>Sunday\, November 6\, 2011 at Heardmont Park</b>. Registration will open at 1:00 pm and the walk will begin at 2:30 pm. To register go to: <a href="http://www.afsp.org/alabama"><span style="text-decoration: underline \; letter-spacing: 0.0px color: #2d00ff">www. Afsp.org/Alabama</span></a> and select the Birmingham Walk. There will be a survivor area\, with counselors\, for walkers to post pictures of their loved ones. Complimentary refreshments will be available</span></span></p>\n
LOCATION:Heardmont Park 5452 Cahaba Valley Road Birmingham\, Alabama 35242
UID:e.145.3487
SEQUENCE:3
DTSTAMP:20260425T170703Z
URL:https://business.shelbychamber.org/events/details/out-of-the-darkness-walk-11-06-2011-3487
END:VEVENT

END:VCALENDAR
