BEGIN:VCALENDAR
VERSION:2.0
PRODID:-//ChamberMaster//Event Calendar 2.0//EN
METHOD:PUBLISH
X-PUBLISHED-TTL:P3D
REFRESH-INTERVAL:P3D
CALSCALE:GREGORIAN
BEGIN:VEVENT
DTSTART:20140615T140000Z
DTEND:20140615T220000Z
X-MICROSOFT-CDO-ALLDAYEVENT:FALSE
SUMMARY:Outdoors with Dad
DESCRIPTION:In recognition of Father's Day\, all fathers get in FREE to the Birmingham Zoo with the purchase of a full-price child's admission ticket. Throughout the day\, guests can check out Wildlife Shows\, watch the Red Diamond Sea Lion Splash Show\, experience Predator Zone\, enjoy a "keeper meet and greet" in the reptile building and much more.
X-ALT-DESC;FMTTYPE=text/html:In recognition of Father&#39\;s Day\, all fathers get in FREE to the Birmingham Zoo with the purchase of a full-price child&#39\;s admission ticket. Throughout the day\, guests can check out Wildlife Shows\, watch the Red Diamond Sea Lion Splash Show\, experience Predator Zone\, enjoy a &quot\;keeper meet and greet&quot\; in the reptile building and much more.
LOCATION:The Birmingham Zoo
UID:e.145.5083
SEQUENCE:3
DTSTAMP:20260423T151113Z
URL:https://business.shelbychamber.org/events/details/outdoors-with-dad-06-15-2014-5083
END:VEVENT

END:VCALENDAR
