BEGIN:VCALENDAR
VERSION:2.0
PRODID:-//ChamberMaster//Event Calendar 2.0//EN
METHOD:PUBLISH
X-PUBLISHED-TTL:P3D
REFRESH-INTERVAL:P3D
CALSCALE:GREGORIAN
BEGIN:VEVENT
DTSTART:20131026T160000Z
DTEND:20131026T190000Z
X-MICROSOFT-CDO-ALLDAYEVENT:FALSE
SUMMARY:Owl-O-Ween at the Alabama Wildlife Center
DESCRIPTION:It's gonna be a hoot! Features children's educational games and activities\, story time\, candy\, guest owls from other area wildlife organizations\, and a birds of prey presentation featuring a live owl and other raptors. Free after paid admission to Oak Mountain State Park. See website for additional details: www.awrc.org\; 205-663-7930\, Ext. 4.
X-ALT-DESC;FMTTYPE=text/html:It&#39\;s gonna be a hoot! Features children&#39\;s educational games and activities\, story time\, candy\, guest owls from other area wildlife organizations\, and a birds of prey presentation featuring a live owl and other raptors. Free after paid admission to Oak Mountain State Park. See website for additional details: <a href="http://www.awrc.org">www.awrc.org</a>\; 205-663-7930\, Ext. 4.
LOCATION:Alabama Wildlife Center\, 100 Terrace Drive\, Oak Mountain State Park\, Pelham\, Alabama 35124
UID:e.145.4900
SEQUENCE:3
DTSTAMP:20260424T033738Z
URL:https://business.shelbychamber.org/events/details/owl-o-ween-at-the-alabama-wildlife-center-10-26-2013-4900
END:VEVENT

END:VCALENDAR
