BEGIN:VCALENDAR
VERSION:2.0
PRODID:-//ChamberMaster//Event Calendar 2.0//EN
METHOD:PUBLISH
X-PUBLISHED-TTL:P3D
REFRESH-INTERVAL:P3D
CALSCALE:GREGORIAN
BEGIN:VEVENT
DTSTART:20110426T233000Z
DTEND:20110427T013000Z
X-MICROSOFT-CDO-ALLDAYEVENT:FALSE
SUMMARY:Paint Party at Bryant Art Gallery
DESCRIPTION:Come join us Tuesday Nights for Bryant Art Gallery's Paint Party featuring artist Caroline Chamberlain!  This week we will use acrylics to create an abstract female silhoutte on a 16x20 canvas.  Limited seating.
X-ALT-DESC;FMTTYPE=text/html:Come join us Tuesday Nights for Bryant Art Gallery's Paint Party featuring artist Caroline Chamberlain!  This week we will use acrylics to create an abstract female silhoutte on a 16x20 canvas.  Limited seating. 
LOCATION:Bryant Art Gallery - 5361 Highway 280 South. (Bazaar 280 shopping center next to Brookhighland Walmart)
UID:e.145.3279
SEQUENCE:3
DTSTAMP:20260426T035134Z
URL:https://business.shelbychamber.org/events/details/paint-party-at-bryant-art-gallery-04-26-2011-3279
END:VEVENT

END:VCALENDAR
