BEGIN:VCALENDAR
VERSION:2.0
PRODID:-//ChamberMaster//Event Calendar 2.0//EN
METHOD:PUBLISH
X-PUBLISHED-TTL:P3D
REFRESH-INTERVAL:P3D
CALSCALE:GREGORIAN
BEGIN:VEVENT
DTSTART:20110405T233000Z
DTEND:20110406T013000Z
X-MICROSOFT-CDO-ALLDAYEVENT:FALSE
SUMMARY:Paint Party with Bryant Art Gallery
DESCRIPTION:Come join us Tuesday Nights for Bryant Art Gallery's Paint Party featuring artist Caroline Chamberlain!  This week we will use acrylics to create a fun spring butterfly on a 16x20 canvas!
X-ALT-DESC;FMTTYPE=text/html:Come join us Tuesday Nights for Bryant Art Gallery's Paint Party featuring artist Caroline Chamberlain!  This week we will use acrylics to create a fun spring butterfly on a 16x20 canvas!
LOCATION:5361 Highway 280 S. (Shopping center next to Brookhighland Walmart)
UID:e.145.3276
SEQUENCE:3
DTSTAMP:20260426T033955Z
URL:https://business.shelbychamber.org/events/details/paint-party-with-bryant-art-gallery-04-05-2011-3276
END:VEVENT

END:VCALENDAR
