BEGIN:VCALENDAR
VERSION:2.0
PRODID:-//ChamberMaster//Event Calendar 2.0//EN
METHOD:PUBLISH
X-PUBLISHED-TTL:P3D
REFRESH-INTERVAL:P3D
CALSCALE:GREGORIAN
BEGIN:VEVENT
DTSTART:20150613T150000Z
DTEND:20150613T210000Z
X-MICROSOFT-CDO-ALLDAYEVENT:FALSE
SUMMARY:Painting: Alla Prima Painting with Terry Strickland
DESCRIPTION:About the Workshop:\n\n \n\nAlla Prima\, quick sketch paintings done in a single session\, is an art form unto itself.\n\n \n\nTerry will demonstrate each step to help you create your own little jewel of a painting. She will demonstrate her methodology of drawing\, palette layout\, color stings\, transparency/opacity and edge control. Incorporating these techniques allow for quick decision making and bravura brush work that is the beauty and fun of alla prima. \n\n \n\nTerry will bring an assortment of objects to paint\, and students can also bring their own simple still life subjects. \n\nThe session will conclude with a critique of the day's paintings with a Workshop Wine Down
X-ALT-DESC;FMTTYPE=text/html:<div style="color: rgb(0\, 0\, 0)\; font-family: Arial\, Helvetica\, sans-serif\; font-size: 12px\; line-height: 18px\; margin: 0px\;"><span style="font-family:arial"><span style="letter-spacing:0px"><strong>About the Workshop:</strong></span></span></div>\n\n<div style="color: rgb(0\, 0\, 0)\; font-family: Arial\, Helvetica\, sans-serif\; font-size: 12px\; line-height: 18px\; margin: 0px\; min-height: 13px\;">&nbsp\;</div>\n\n<div style="color: rgb(0\, 0\, 0)\; font-family: Arial\, Helvetica\, sans-serif\; font-size: 12px\; line-height: 18px\; margin: 0px\;"><span style="font-family:arial"><span style="letter-spacing:0px">Alla Prima\, quick sketch paintings done in a single session\, is an art form unto itself.</span></span></div>\n\n<div style="color: rgb(0\, 0\, 0)\; font-family: Arial\, Helvetica\, sans-serif\; font-size: 12px\; line-height: 18px\; margin: 0px\; min-height: 13px\;">&nbsp\;</div>\n\n<div style="color: rgb(0\, 0\, 0)\; font-family: Arial\, Helvetica\, sans-serif\; font-size: 12px\; line-height: 18px\; margin: 0px\;"><span style="font-family:arial"><span style="letter-spacing:0px">Terry will demonstrate each step to help you create your own little jewel of a painting. She will demonstrate her methodology of drawing\, palette layout\, color stings\, transparency/opacity and edge control. Incorporating these techniques allow for quick decision making and bravura brush work that is the beauty and fun of alla prima.&nbsp\;</span></span></div>\n\n<div style="color: rgb(0\, 0\, 0)\; font-family: Arial\, Helvetica\, sans-serif\; font-size: 12px\; line-height: 18px\; margin: 0px\; min-height: 13px\;">&nbsp\;</div>\n\n<div style="color: rgb(0\, 0\, 0)\; font-family: Arial\, Helvetica\, sans-serif\; font-size: 12px\; line-height: 18px\; margin: 0px\;"><span style="letter-spacing:0px">Terry will bring an assortment of objects to paint\, and students can also bring their own simple still life subjects.&nbsp\;</span></div>\n\n<div style="color: rgb(0\, 0\, 0)\; font-family: Arial\, Helvetica\, sans-serif\; font-size: 12px\; line-height: 18px\; margin: 0px\; min-height: 13px\;"><span style="letter-spacing:0px">The session will conclude with a critique of the day&rsquo\;s paintings with a&nbsp\;<em>Workshop Wine Down</em></span></div>\n\n<div>&nbsp\;</div>\n
LOCATION:Shelby County Arts Council
UID:e.145.7638
SEQUENCE:3
DTSTAMP:20260422T230632Z
URL:https://business.shelbychamber.org/events/details/painting-alla-prima-painting-with-terry-strickland-06-13-2015-7638
END:VEVENT

END:VCALENDAR
