BEGIN:VCALENDAR
VERSION:2.0
PRODID:-//ChamberMaster//Event Calendar 2.0//EN
METHOD:PUBLISH
X-PUBLISHED-TTL:P3D
REFRESH-INTERVAL:P3D
CALSCALE:GREGORIAN
BEGIN:VEVENT
DTSTART:20150131T160000Z
DTEND:20150201T000000Z
X-MICROSOFT-CDO-ALLDAYEVENT:FALSE
SUMMARY:Painting Vibrant Animals Workshop
DESCRIPTION:Entertaining and informative workshop on creating bright. colorful animals her simple instruction includes sketching tips\, loose application of paint\, unique color schemes\, blending\, proportion study\, and building a balanced composition. Bring a photo of the animal you want to paint. Canvas for painting (8x10 or larger) Paint Provided Wear your "paint clothes" Saturday\, January 31\, 2015 10:00 am - 4:00 pm. Bring a lunch Workshop Fee: $115.00
X-ALT-DESC;FMTTYPE=text/html:Entertaining and informative workshop on creating bright. colorful animals her simple instruction includes sketching tips\, loose application of paint\, unique color schemes\, blending\, proportion study\, and building a balanced composition. Bring a photo of the animal you want to paint. Canvas for painting (8x10 or larger) Paint Provided Wear your &quot\;paint clothes&quot\; Saturday\, January 31\, 2015 10:00 am - 4:00 pm. Bring a lunch Workshop Fee: $115.00
LOCATION:Shelby County Arts Council 104 Mildred Street\, Columbiana\, AL 35051
UID:e.145.6470
SEQUENCE:3
DTSTAMP:20260423T050358Z
URL:https://business.shelbychamber.org/events/details/painting-vibrant-animals-workshop-01-31-2015-6470
END:VEVENT

END:VCALENDAR
