BEGIN:VCALENDAR
VERSION:2.0
PRODID:-//ChamberMaster//Event Calendar 2.0//EN
METHOD:PUBLISH
X-PUBLISHED-TTL:P3D
REFRESH-INTERVAL:P3D
CALSCALE:GREGORIAN
BEGIN:VEVENT
DTSTART:20150516T150000Z
DTEND:20150516T210000Z
X-MICROSOFT-CDO-ALLDAYEVENT:FALSE
SUMMARY:PAINTING WITH PURPOSE
DESCRIPTION:About the Workshop:\n\nTerry Strickland's highly realistic and refined portraits in oil represent a refined beauty acquired through years of work and dedication to her art. Her skillful delicacy with a brush is brought to life for her students through thoughtful\, incisive instruction. \n\nTerry will teach her method\, working through techniques like drawing\, palette layout\, premixing color strings\, transparency and opacity\, and edge control. \n\n \n\nStudents will explore the four properties of color and learn the importance of each in their painting. No matter your skill level\, this class will help build your skills as a painter.
X-ALT-DESC;FMTTYPE=text/html:<div style="color: rgb(0\, 0\, 0)\; font-family: Arial\, Helvetica\, sans-serif\; line-height: 18px\; margin: 0px\; font-size: 11px\;"><span style="font-size:small"><span style="font-family:arial"><span style="letter-spacing:0px"><strong>About the Workshop:</strong></span></span></span></div>\n\n<div style="color: rgb(0\, 0\, 0)\; font-family: Arial\, Helvetica\, sans-serif\; line-height: 18px\; margin: 0px\; font-size: 11px\;"><span style="font-size:small"><span style="font-family:arial"><span style="letter-spacing:0px">Terry Strickland&rsquo\;s highly realistic and refined portraits in oil represent a refined beauty acquired through years of work and dedication to her art. Her skillful delicacy with a brush is brought to life for her students through thoughtful\, incisive instruction.&nbsp\;</span></span></span></div>\n\n<div style="color: rgb(0\, 0\, 0)\; font-family: Arial\, Helvetica\, sans-serif\; line-height: 18px\; margin: 0px\; font-size: 11px\;"><span style="font-size:small"><span style="font-family:arial"><span style="letter-spacing:0px">Terry will teach her method\, working through techniques like drawing\, palette layout\, premixing color strings\, transparency and opacity\, and edge control.&nbsp\;</span></span></span></div>\n\n<div style="color: rgb(0\, 0\, 0)\; font-family: Arial\, Helvetica\, sans-serif\; line-height: 18px\; margin: 0px\; font-size: 11px\; min-height: 13px\;">&nbsp\;</div>\n\n<div style="color: rgb(0\, 0\, 0)\; font-family: Arial\, Helvetica\, sans-serif\; line-height: 18px\; margin: 0px\; font-size: 11px\;"><span style="font-size:small"><span style="font-family:arial"><span style="letter-spacing:0px">Students will explore the four properties of color and learn the importance of each in their painting. No matter your skill level\, this class will help build your skills as a painter.</span></span></span></div>\n
LOCATION:Shelby County Arts Council
UID:e.145.7637
SEQUENCE:3
DTSTAMP:20260422T230849Z
URL:https://business.shelbychamber.org/events/details/painting-with-purpose-05-16-2015-7637
END:VEVENT

END:VCALENDAR
