BEGIN:VCALENDAR
VERSION:2.0
PRODID:-//ChamberMaster//Event Calendar 2.0//EN
METHOD:PUBLISH
X-PUBLISHED-TTL:P3D
REFRESH-INTERVAL:P3D
CALSCALE:GREGORIAN
BEGIN:VEVENT
DTSTART:20131012T150000Z
DTEND:20131012T210000Z
X-MICROSOFT-CDO-ALLDAYEVENT:FALSE
SUMMARY:Painting Workshop: Pallette Knife Painting with Ahmad Austin
DESCRIPTION:Palette Knife Painting with Ahmad Austin\n\n	 \n\n	Saturday\, October 12\, 2013\, 10am- 4pm\n\n	Bring A Lunch!  We may break or have a working lunch. \n\n	Supply List: \n\n	2 16X20 Canvas\, 1 9x12 canvas\, 1 11x14 canvas \n\n	One Large blunt style palette knife\, One medium point tip palette knife\, One small palette knife (Preferably metal palette knife with the wooden or rubber handle)Acrylic Paint (Basic Colors- Blue\, Red\, Yellow\, Orange\, white\, etc.)\n\n	Heavy Body Gel Medium  8oz (Optional)\n\n	Note: We will be using a large amount a paint.
X-ALT-DESC;FMTTYPE=text/html:<div style="font-family: verdana\,helvetica\,sans-serif\; font-size: 13px\; font-style: normal\; background-color: transparent\;">\n	<span style="font-size: medium\;">Palette Knife Painting with Ahmad Austin</span></div>\n<div style="font-family: verdana\,helvetica\,sans-serif\; font-size: 13px\; font-style: normal\; background-color: transparent\;">\n	&nbsp\;</div>\n<div style="font-family: verdana\,helvetica\,sans-serif\; font-size: 13px\; font-style: normal\; background-color: transparent\;">\n	<span style="font-family: Arial\;"><span style="font-size: small\;">Saturday\, October 12\, 2013\,&nbsp\;10am- 4pm</span></span></div>\n<p>\n	<span style="font-family: Arial\;"><span style="font-size: small\;">Bring A Lunch! &nbsp\;We may break or have a working lunch.&nbsp\;</span></span></p>\n<p>\n	<span style="font-family: Arial\;"><span style="font-size: small\;">Supply List:&nbsp\;</span></span></p>\n<p>\n	<span style="font-family: Arial\;"><span style="font-size: small\;"><span style="background-color: transparent\;">2 16X20 Canvas\, 1 9x12 canvas\, 1 11x14 canvas&nbsp\;</span></span></span><br />\n	<span style="font-family: Arial\;"><span style="font-size: small\;">One Large blunt style palette knife\, One medium point tip palette knife\, One small palette knife&nbsp\;</span></span><span style="font-family: Arial\;"><span style="font-size: small\;">(Preferably metal palette knife with the wooden or rubber handle)</span></span><span style="font-family: Arial\;"><span style="font-size: small\;">Acrylic Paint (Basic Colors- Blue\, Red\, Yellow\, Orange\, white\, etc.)</span></span></p>\n<p>\n	<span style="font-family: Arial\;"><span style="font-size: small\;">Heavy Body Gel Medium &nbsp\;8oz (Optional)</span></span></p>\n<div style="font-family: verdana\,helvetica\,sans-serif\; font-size: 13px\; font-style: normal\; background-color: transparent\;">\n	<span style="font-family: Arial\;"><span style="font-size: small\;">Note: We will be using a large amount a paint.&nbsp\;</span></span></div>\n
LOCATION:Shelby County Arts Council\, 104 Mildred Street\, Columbiana\, AL 35051
UID:e.145.4716
SEQUENCE:3
DTSTAMP:20260424T033839Z
URL:https://business.shelbychamber.org/events/details/painting-workshop-pallette-knife-painting-with-ahmad-austin-10-12-2013-4716
END:VEVENT

END:VCALENDAR
