BEGIN:VCALENDAR
VERSION:2.0
PRODID:-//ChamberMaster//Event Calendar 2.0//EN
METHOD:PUBLISH
X-PUBLISHED-TTL:P3D
REFRESH-INTERVAL:P3D
CALSCALE:GREGORIAN
BEGIN:VEVENT
DTSTART;VALUE=DATE:20130907
DTEND;VALUE=DATE:20130908
TRANSP:TRANSPARENT
X-MICROSOFT-CDO-ALLDAYEVENT:TRUE
SUMMARY:Painting Workshop: Watercolor Portraits with Pat Hall
DESCRIPTION:Focus on skin tones and facial features\n	\n		Learn to paint beautiful Portraits in Watercolor\n	\n		No drawing necessary - tracings and photos provided\n	\n		Paint your own subjects when you feel comfortable with the basics\n\n		(Instructor will project the image of your photo onto tracing paper and bring it to class)\n\n\n	Materials provided: 11 x 15 Sheet of 300lb Cold Press Paper .  Professional grade watercolor paint  Bring your brushes if you have any
X-ALT-DESC;FMTTYPE=text/html:<ul>\n	<li>\n		<span style="font-size: small\;"><span style="font-family: Arial\;">Focus on skin tones and facial features</span></span></li>\n	<li>\n		<span style="font-size: small\;"><span style="font-family: Arial\;">Learn to paint beautiful Portraits in Watercolor</span></span></li>\n	<li>\n		<span style="font-size: small\;"><span style="font-family: Arial\;">No drawing necessary - tracings and photos provided</span></span></li>\n	<li>\n		<span style="font-size: small\;"><span style="font-family: Arial\;">Paint your own subjects when you feel comfortable with the basics</span></span><br />\n		<span style="font-size: small\;"><span style="font-family: Arial\;">(Instructor will project the image of your photo onto tracing paper and bring it to class)</span></span></li>\n</ul>\n<p>\n	<span style="font-size: small\;"><span style="font-family: Arial\;">Materials provided: 11 x 15 Sheet of 300lb Cold Press Paper</span> .&nbsp\; Professional grade watercolor paint&nbsp\; Bring your brushes if you have any&nbsp\;</span></p>\n
LOCATION:Shelby county Arts Council\, 104 Mildred Street\, Columibana\, AL 35043
UID:e.145.4714
SEQUENCE:3
DTSTAMP:20260424T065754Z
URL:https://business.shelbychamber.org/events/details/painting-workshop-watercolor-portraits-with-pat-hall-09-07-2013-4714
END:VEVENT

END:VCALENDAR
