BEGIN:VCALENDAR
VERSION:2.0
PRODID:-//ChamberMaster//Event Calendar 2.0//EN
METHOD:PUBLISH
X-PUBLISHED-TTL:P3D
REFRESH-INTERVAL:P3D
CALSCALE:GREGORIAN
BEGIN:VEVENT
DTSTART:20130328T230000Z
DTEND:20130329T000000Z
X-MICROSOFT-CDO-ALLDAYEVENT:FALSE
SUMMARY:Parent Learning Sessions
DESCRIPTION:The Shelby County Children's Policy Council is excited to announce "Parent Learning Sessions" for parents of young children. For more information or to register call Kelli at 944-3969.\n\nWorkshop sessions include:\n\n	\n		Brain Development\n	\n		Respectful Communication\n	\n		Building Self-Worth\n	\n		Understanding Feelings\n	\n		Family Morals\,Values and Roles\n	\n		Praising Children & Behavior\n\nLight snacks\, door prizes and child care will be provided.
X-ALT-DESC;FMTTYPE=text/html:The Shelby County Children&#39\;s Policy Council is excited to announce &quot\;Parent Learning Sessions&quot\; for parents of young children. For more information or to register call Kelli at 944-3969.<br />\nWorkshop sessions include:\n<ul>\n	<li>\n		Brain Development</li>\n	<li>\n		Respectful Communication</li>\n	<li>\n		Building Self-Worth</li>\n	<li>\n		Understanding Feelings</li>\n	<li>\n		Family Morals\,Values and Roles</li>\n	<li>\n		Praising Children &amp\; Behavior</li>\n</ul>\nLight snacks\, door prizes and child care will be provided.
LOCATION:The Arc of Shelby County
UID:e.145.4559
SEQUENCE:3
DTSTAMP:20260424T153225Z
URL:https://business.shelbychamber.org/events/details/parent-learning-sessions-03-28-2013-4559
END:VEVENT

END:VCALENDAR
