BEGIN:VCALENDAR
VERSION:2.0
PRODID:-//ChamberMaster//Event Calendar 2.0//EN
METHOD:PUBLISH
X-PUBLISHED-TTL:P3D
REFRESH-INTERVAL:P3D
CALSCALE:GREGORIAN
BEGIN:VEVENT
DTSTART:20160526T233000Z
DTEND:20160527T003000Z
X-MICROSOFT-CDO-ALLDAYEVENT:FALSE
SUMMARY:Parent Workshop: Bye Bye Tantrums with Rachel Raybin
DESCRIPTION:Learn how to end tantrums forever with this special workshop just for parents! Featuring Rachel Raybin\, founder of trainingwheelsneeded.com\, this workshop will help parents find out why tantrums happen and be able to spot the warning signs. Learn 3 strategies for preventing tantrums\, and 5 strategies for ending tantrums for good! Call the library for more information.
X-ALT-DESC;FMTTYPE=text/html:<span style="font-family:calibri light\,sans-serif"><span style="font-size:12.0pt">Learn how to end tantrums forever with this special workshop just for parents! Featuring Rachel Raybin\, founder of trainingwheelsneeded.com\, this workshop will help parents find out why tantrums happen and be able to spot the warning signs. Learn 3 strategies for preventing tantrums\, and 5 strategies for ending tantrums for good! Call the library for more information.&nbsp\;</span></span>
LOCATION:North Shelby Library
UID:e.145.9493
SEQUENCE:3
DTSTAMP:20260422T060845Z
URL:https://business.shelbychamber.org/events/details/parent-workshop-bye-bye-tantrums-with-rachel-raybin-05-26-2016-9493
END:VEVENT

END:VCALENDAR
