BEGIN:VCALENDAR
VERSION:2.0
PRODID:-//ChamberMaster//Event Calendar 2.0//EN
METHOD:PUBLISH
X-PUBLISHED-TTL:P3D
REFRESH-INTERVAL:P3D
CALSCALE:GREGORIAN
BEGIN:VEVENT
DTSTART:20170211T220000Z
DTEND:20170212T030000Z
X-MICROSOFT-CDO-ALLDAYEVENT:FALSE
SUMMARY:Parents Night Out: Cosmic Nerf Wars!
DESCRIPTION:Enjoy an early Valentine's date night while we watch the kids.\n\n\n\nWe're having a cosmic Nerf battle! Bring your own Nerf guns and ammo. We'll provide the cosmic lights\, dinner\, and a movie! (Safety goggles are recommended)\n\n\n\nOpen for anyone ages 4-11. Non-members must have a release form signed by his/her parent/guardian. Click Here for release form.
X-ALT-DESC;FMTTYPE=text/html:Enjoy an early Valentine&#39\;s date night while we watch the kids.<br />\n<br />\nWe&#39\;re having a cosmic Nerf battle! Bring your own Nerf guns and ammo. We&#39\;ll provide the cosmic lights\, dinner\, and a movie! (Safety goggles are recommended)<br />\n<br />\nOpen for anyone ages 4-11. Non-members must have a release form signed by his/her parent/guardian. <a href="http://www.smartwaiver.com/v/pelhamtrma">Click Here </a>for release form.
LOCATION:Tiger Rock Martial Arts 130 Corporate Way Pelham\, AL 35124
UID:e.145.10368
SEQUENCE:3
DTSTAMP:20260421T102655Z
URL:https://business.shelbychamber.org/events/details/parents-night-out-cosmic-nerf-wars-10368
END:VEVENT

END:VCALENDAR
