BEGIN:VCALENDAR
VERSION:2.0
PRODID:-//ChamberMaster//Event Calendar 2.0//EN
METHOD:PUBLISH
X-PUBLISHED-TTL:P3D
REFRESH-INTERVAL:P3D
CALSCALE:GREGORIAN
BEGIN:VEVENT
DTSTART:20140419T140000Z
DTEND:20140419T220000Z
X-MICROSOFT-CDO-ALLDAYEVENT:FALSE
SUMMARY:Party for the Planet
DESCRIPTION:Join the Birmingham Zoo in celebrating the AZA's signature event and largest combined Earth Day celebration in North America! Enjoy special activities\, animal demonstrations\, wildlife shows and local Birmingham business booths all focused on promoting the care and conservation of our planet.
X-ALT-DESC;FMTTYPE=text/html:Join the Birmingham Zoo in celebrating the AZA&#39\;s signature event and largest combined Earth Day celebration in North America! Enjoy special activities\, animal demonstrations\, wildlife shows and local Birmingham business booths all focused on promoting the care and conservation of our planet.
LOCATION:The Birmingham Zoo
UID:e.145.5079
SEQUENCE:3
DTSTAMP:20260423T183559Z
URL:https://business.shelbychamber.org/events/details/party-for-the-planet-04-19-2014-5079
END:VEVENT

END:VCALENDAR
