BEGIN:VCALENDAR
VERSION:2.0
PRODID:-//ChamberMaster//Event Calendar 2.0//EN
METHOD:PUBLISH
X-PUBLISHED-TTL:P3D
REFRESH-INTERVAL:P3D
CALSCALE:GREGORIAN
BEGIN:VEVENT
DTSTART:20151011T183000Z
DTEND:20151011T193000Z
X-MICROSOFT-CDO-ALLDAYEVENT:FALSE
SUMMARY:Paws-itively Training Course for Puppies
DESCRIPTION:Paws-itively Training\n\n\nA 6-week Course for All Dogs Under 1 Year\n\nBegins Sunday\, September 27th - every Sunday for 6 weeks\n\n1:30- 2:30 pm\n\nLed by our Kennel Manager Meg\, an Animal Behavior College Certified Dog Trainer\n\n$150.00\n\n\n\nRecently adopted a puppy?  Have a young dog that needs to learn basic commands?  Not sure how to start puppy training?\n\nIn this 6-week class you and your puppies will learn the foundations of basic obedience including sit/down/stay/come and proper leash walking\, as well as commands such as "drop it"\, "leave it" and "take it". \n\nIt is a positive method of training using a clicker and reward system.\n\nRegistration encouraged as space is limited!  Please call (205) 991-5416 or email us today!
X-ALT-DESC;FMTTYPE=text/html:<h3><strong>Paws-itively Training</strong></h3>\n\n<div>\n<p>A 6-week Course for All Dogs Under 1 Year</p>\n\n<p>Begins Sunday\,&nbsp\;September 27th - every Sunday for 6 weeks</p>\n\n<p>1:30- 2:30 pm</p>\n\n<p>Led by our Kennel Manager Meg\, an Animal Behavior College Certified Dog Trainer</p>\n\n<p>$150.00<br />\n<br />\n<em>Recently adopted a puppy? &nbsp\;Have a young dog that needs to learn basic commands? &nbsp\;Not sure how to start puppy training?</em></p>\n\n<p>In this 6-week class you and your puppies will learn&nbsp\;the foundations of basic obedience including&nbsp\;sit/down/stay/come and proper&nbsp\;leash walking\, as well as commands such as &quot\;drop it&quot\;\, &quot\;leave it&quot\; and &quot\;take it&quot\;.&nbsp\;</p>\n\n<p>It is a positive method of training using a clicker and reward system.</p>\n\n<p>Registration encouraged as space is limited! &nbsp\;Please call&nbsp\;(205) 991-5416 or&nbsp\;<a href="mailto:frontdesk@valleydaleanimalclinic.com?subject=Puppy%20Training%20Class" style="color: rgb(81\, 135\, 44)\;">email us</a>&nbsp\;today!</p>\n</div>\n
LOCATION:Valleydale Animal Clinic
UID:e.145.7869
SEQUENCE:3
DTSTAMP:20260422T154203Z
URL:https://business.shelbychamber.org/events/details/paws-itively-training-course-for-puppies-10-11-2015-7869
END:VEVENT

END:VCALENDAR
