BEGIN:VCALENDAR
VERSION:2.0
PRODID:-//ChamberMaster//Event Calendar 2.0//EN
METHOD:PUBLISH
X-PUBLISHED-TTL:P3D
REFRESH-INTERVAL:P3D
CALSCALE:GREGORIAN
BEGIN:VEVENT
DTSTART:20140119T173000Z
DTEND:20140119T183000Z
X-MICROSOFT-CDO-ALLDAYEVENT:FALSE
SUMMARY:Pelham Hockey Development Academy - Super Skills Program
DESCRIPTION:PELHAM HOCKEY DEVELOPMENT ACADEMY - SUPER SKILLS PROGRAM (Pelham Youth Hockey League) Schedule: 5 Week Program Dates: Program will take place on Mondays 12/22/2013\, 12/29/2013\, 1/5/2014\, 1/12/2014 and 1/19/2014.\n\n\n\nHead Instructor: Randy Murphy\n\n\n\nRegistration: Please register by contacting Randy Murphy randy@pelhamonline.com or 205 620-6448\n\n\n\nInvestment: $75.00\n\n\n\nProgram Highlights: This program is fashioned like the USA Hockey ADM Clinics. It is designed to enhance skills and development by forcing players to maneuver in small areas to hone skating ability and use of edges through sudden stops and starts\, changing directions\, tight turns while forcing creativity\, quick reactionary decisions\, one on one battling skills and various puck possession and protection techniques. All stations will be composed of "Game like situations". Quality habit forming attributes will be taught and expected to be followed. Players will be paired with players of like skill level and age to enhance the effectiveness of the program. Results to be expected: Players will increase skill development in skating\, shooting\, passing\, and positional play\; as well as achieving increased competition levels in players? goal scoring and "finishing" technique\, increased agility and quickness\, and overall hockey awareness and increased hockey sense.
X-ALT-DESC;FMTTYPE=text/html:PELHAM HOCKEY DEVELOPMENT ACADEMY - SUPER SKILLS PROGRAM (Pelham Youth Hockey League) Schedule: 5 Week Program Dates: Program will take place on Mondays 12/22/2013\, 12/29/2013\, 1/5/2014\, 1/12/2014 and 1/19/2014.<br />\n<br />\nHead Instructor: Randy Murphy<br />\n<br />\nRegistration: Please register by contacting Randy Murphy randy@pelhamonline.com or 205 620-6448<br />\n<br />\nInvestment: $75.00<br />\n<br />\nProgram Highlights: This program is fashioned like the USA Hockey ADM Clinics. It is designed to enhance skills and development by forcing players to maneuver in small areas to hone skating ability and use of edges through sudden stops and starts\, changing directions\, tight turns while forcing creativity\, quick reactionary decisions\, one on one battling skills and various puck possession and protection techniques. All stations will be composed of &quot\;Game like situations&quot\;. Quality habit forming attributes will be taught and expected to be followed. Players will be paired with players of like skill level and age to enhance the effectiveness of the program. Results to be expected: Players will increase skill development in skating\, shooting\, passing\, and positional play\; as well as achieving increased competition levels in players? goal scoring and &quot\;finishing&quot\; technique\, increased agility and quickness\, and overall hockey awareness and increased hockey sense.
LOCATION:Pelham Civic Complex and Ice Arena 500 Amphitheater Rd\, Pelham\, AL 35124
UID:e.145.4980
SEQUENCE:3
DTSTAMP:20260423T225330Z
URL:https://business.shelbychamber.org/events/details/pelham-hockey-development-academy-super-skills-program-01-19-2014-4980
END:VEVENT

END:VCALENDAR
