BEGIN:VCALENDAR
VERSION:2.0
PRODID:-//ChamberMaster//Event Calendar 2.0//EN
METHOD:PUBLISH
X-PUBLISHED-TTL:P3D
REFRESH-INTERVAL:P3D
CALSCALE:GREGORIAN
BEGIN:VEVENT
DTSTART;VALUE=DATE:20130826
DTEND;VALUE=DATE:20131001
TRANSP:TRANSPARENT
X-MICROSOFT-CDO-ALLDAYEVENT:TRUE
SUMMARY:Pelham Library Book Sale
DESCRIPTION:Pelham Public Library's quarterly book sale will begin August 26 and run through the end of September!  Donations from members of the Pelham community make these book sales possible.   The proceeds assist in funding library materials and programming such as children's crafts and story times. Prices are quite low: $1 for hardbacks and DVD's\; .50 for kid's books\, paperbacks and VHS tapes. For more information please call 620-6418.
X-ALT-DESC;FMTTYPE=text/html:<p align="left" class="MsoBodyText" style="margin: 0in 0in 10pt 0.5in\; text-align: left\; text-indent: 0in\;">\n	<span style="background: white\; font-family: &quot\;Times New Roman&quot\;\,&quot\;serif&quot\;\; font-size: 12pt\;"><font color="#000000">Pelham Public Library&#39\;s quarterly book sale will begin August 26 and run through the end of September! &nbsp\;Donations from members of the Pelham community make these book sales possible.&nbsp\; &nbsp\;The proceeds assist in funding library materials and programming such as children&rsquo\;s crafts and story times. Prices are quite low: $1 for hardbacks and DVD&#39\;s\; .50 for kid&rsquo\;s books\, paperbacks and VHS tapes. For more information please call 620-6418.<o:p></o:p></font></span></p>\n
LOCATION:Pelham Public Library
UID:e.145.4707
SEQUENCE:3
DTSTAMP:20260424T051331Z
URL:https://business.shelbychamber.org/events/details/pelham-library-book-sale-08-26-2013-4707
END:VEVENT

END:VCALENDAR
