BEGIN:VCALENDAR
VERSION:2.0
PRODID:-//ChamberMaster//Event Calendar 2.0//EN
METHOD:PUBLISH
X-PUBLISHED-TTL:P3D
REFRESH-INTERVAL:P3D
CALSCALE:GREGORIAN
BEGIN:VEVENT
DTSTART:20110915T210000Z
DTEND:20110916T030000Z
X-MICROSOFT-CDO-ALLDAYEVENT:FALSE
SUMMARY:Pelham Racquet Club National Tournament Night
DESCRIPTION:Pelham Racquet Club\n\nNational Tournament Night\n\nSeptember 15th from 4-10 PM\n\n\n\nTexas Roadhouse\n\n60 Drivers Way\, Pelham\, AL 35124\n\n205-985-7427\n\n\n\nDrink and Dinner Specials:\n\n10oz Margarita's & 22oz Miller High Life $2.49 ALL night\n\n15 entr es for only $7.99 from 4 PM - 6 PM\n\n\n\n10% Donation Night\n\n\n\nSupport this cause by presenting this invitation to the listed Texas Roadhouse location and Texas Roadhouse will donate 10% of your total food purchases to the fundraiser!  Click here for a printable PDF invitation.
X-ALT-DESC;FMTTYPE=text/html:<strong>Pelham Racquet Club</strong><br />\nNational Tournament Night<br />\nSeptember 15th from 4-10 PM<br />\n<br />\n<strong>Texas Roadhouse</strong><br />\n60 Drivers Way\, Pelham\, AL 35124<br />\n205-985-7427<br />\n<br />\nDrink and Dinner Specials:<br />\n10oz Margarita&#39\;s &amp\; 22oz Miller High Life $2.49 ALL night<br />\n15 entr&eacute\;es for only $7.99 from 4 PM - 6 PM<br />\n<br />\n10% Donation Night<br />\n<br />\nSupport this cause by presenting this invitation to the listed Texas Roadhouse location and Texas Roadhouse will donate 10% of your total food purchases to the fundraiser!&nbsp\; <a href="http://cloud.chambermaster.com/userfiles/UserFiles/chambers/145/File/Community%20Events/PRCnationaltournamentfamilynight91511.pdf"><strong>Click here for a printable PDF invitation.</strong></a>
LOCATION:Texas Roadhouse 60 Drivers Way\, Pelham\, AL 35124 205-985-7427
UID:e.145.3518
SEQUENCE:3
DTSTAMP:20260425T214239Z
URL:https://business.shelbychamber.org/events/details/pelham-racquet-club-national-tournament-night-09-15-2011-3518
END:VEVENT

END:VCALENDAR
