BEGIN:VCALENDAR
VERSION:2.0
PRODID:-//ChamberMaster//Event Calendar 2.0//EN
METHOD:PUBLISH
X-PUBLISHED-TTL:P3D
REFRESH-INTERVAL:P3D
CALSCALE:GREGORIAN
BEGIN:VEVENT
DTSTART:20160922T130000Z
DTEND:20160922T230000Z
X-MICROSOFT-CDO-ALLDAYEVENT:FALSE
SUMMARY:Pelham YMCA 2016 Fall Golf Classic sponsored by Hyundai
DESCRIPTION:Join us September 22nd for our annual Fall Golf Classic sponsored by Hyundai\, where all proceeds go to benefit families in the Pelham through our Annual Campaign providing Membership and Program scholarships to local families in need. \n\n\n\nOverall winning team selects 2 players to represent them in a full expense paid trip as a National Finalist in the Hyundai Invitational Tournament in Las Vegas Nevada. Winning team may either mutually select their 2 representing players or the 2 names will be drawn out of a hat. Also...\n\n\n\n- Prizes for 1st\, 2nd\, and 3rd place in each the morning and afternoon flight\n\n- Hole in One prizes Include New Hyundai Genesis / Taylormade M1 Driver and 3 Wood /      Taylormade M2 Irons /    $500 Taylormade Gift card.\n\n- Closest to the Pin and the longest drive winners both receive a $150 cash prize\n\n- Winner of the chipping and putting challenge will win a free round of golf to Timberline    Golf Club.\n\n\n\nSponsor Opportunities\n\n+ Title Sponsor - $3500 Sold to Hyundai\n\n+ Platinum Sponsor - (Host) $2500 - Sold to Timberline Golf Club\n\n+ Gold (Dinner\, Cart\, Awards) Sponsor - $1000 3 available\n\n+ Silver ( Lunch) Sponsor - $1000 1 available\n\n+ Bronze (Range or Putting Green) Sponsor - $500 2 available\n\n+ Tee and Green Sponsor - $175\n\n+ Tee Sponsor $100\n\n+ Green Sponsor - $100
X-ALT-DESC;FMTTYPE=text/html:<span style="font-family:verdana"><strong>Join us September 22nd for our annual Fall Golf Classic sponsored by Hyundai\, where all proceeds go to benefit families in the Pelham through our Annual Campaign providing Membership and Program scholarships to local families in need.&nbsp\;<br />\n<br />\nOverall winning team selects 2 players to represent them in a full expense paid trip as a National Finalist in the Hyundai Invitational Tournament in Las Vegas Nevada. Winning team may either mutually select their 2 representing players or the 2 names will be drawn out of a hat. Also...<br />\n<br />\n- Prizes for 1st\, 2nd\, and 3rd place in each the morning and afternoon flight<br />\n- Hole in One prizes Include New Hyundai Genesis / Taylormade M1 Driver and 3 Wood / &nbsp\; &nbsp\; &nbsp\;Taylormade M2 Irons / &nbsp\; &nbsp\;$500 Taylormade Gift card.<br />\n- Closest to the Pin and the longest drive winners both receive a $150 cash prize<br />\n- Winner of the chipping and putting challenge will win a free round of golf to Timberline &nbsp\; &nbsp\;Golf Club.<br />\n<br />\nSponsor Opportunities<br />\n+ Title Sponsor - $3500 Sold to Hyundai<br />\n+ Platinum Sponsor - (Host) $2500 - Sold to Timberline Golf Club<br />\n+ Gold (Dinner\, Cart\, Awards) Sponsor - $1000 3 available<br />\n+ Silver ( Lunch) Sponsor - $1000 1 available<br />\n+ Bronze (Range or Putting Green) Sponsor - $500 2 available<br />\n+ Tee and Green Sponsor - $175<br />\n+ Tee Sponsor $100<br />\n+ Green Sponsor - $100</strong></span>
LOCATION:Timberline Golf Club 300 Timberline Trail\, Calera\, Alabama 35040
UID:e.145.9654
SEQUENCE:3
DTSTAMP:20260421T200947Z
URL:https://business.shelbychamber.org/events/details/pelham-ymca-2016-fall-golf-classic-sponsored-by-hyundai-09-22-2016-9654
END:VEVENT

END:VCALENDAR
