BEGIN:VCALENDAR
VERSION:2.0
PRODID:-//ChamberMaster//Event Calendar 2.0//EN
METHOD:PUBLISH
X-PUBLISHED-TTL:P3D
REFRESH-INTERVAL:P3D
CALSCALE:GREGORIAN
BEGIN:VEVENT
DTSTART;VALUE=DATE:20110405
DTEND;VALUE=DATE:20110406
TRANSP:TRANSPARENT
X-MICROSOFT-CDO-ALLDAYEVENT:TRUE
SUMMARY:Pencils into Paint
DESCRIPTION:PENCILS INTO PAINT\n\n\n\n    * Explore master artists? painting methods & techniques! \n\n    * Boost artistic talents & improve drawing & painting skills \n\n    * Create artworks using pencils\, colored pencils\, paints\, brushes & more! \n\n\n\nJan/Feb/Mar Class: January 11 - March 1\, 2011\n\n\n\nMar/Apr/May Class: March 22 - May 10\, 2011\n\n\n\n \n\n\n\nTuesdays\, 4:00 ? 5:00pm\n\n\n\nInstructor: Lynn Dodson  \n\n\n\nAges 9-12      8 Sessions
X-ALT-DESC;FMTTYPE=text/html:PENCILS INTO PAINT\n<br>\n<br>    * Explore master artists? painting methods &amp\; techniques! \n<br>    * Boost artistic talents &amp\; improve drawing &amp\; painting skills \n<br>    * Create artworks using pencils\, colored pencils\, paints\, brushes &amp\; more! \n<br>\n<br>Jan/Feb/Mar Class: January 11 - March 1\, 2011\n<br>\n<br>Mar/Apr/May Class: March 22 - May 10\, 2011\n<br>\n<br> \n<br>\n<br>Tuesdays\, 4:00 ? 5:00pm\n<br>\n<br>Instructor: Lynn Dodson  \n<br>\n<br>Ages 9-12      8 Sessions 
LOCATION:Shelby County Arts Council Studio 104 Mildred St Columbiana AL 35051
UID:e.145.2862
SEQUENCE:3
DTSTAMP:20260426T034245Z
URL:https://business.shelbychamber.org/events/details/pencils-into-paint-04-05-2011-2862
END:VEVENT

END:VCALENDAR
