BEGIN:VCALENDAR
VERSION:2.0
PRODID:-//ChamberMaster//Event Calendar 2.0//EN
METHOD:PUBLISH
X-PUBLISHED-TTL:P3D
REFRESH-INTERVAL:P3D
CALSCALE:GREGORIAN
BEGIN:VEVENT
DTSTART:20110503T210000Z
DTEND:20110503T220000Z
X-MICROSOFT-CDO-ALLDAYEVENT:FALSE
SUMMARY:Pencils into Paint
DESCRIPTION:PENCILS INTO PAINT\n\n\n\n* Explore master artists? painting methods & techniques!\n\n* Boost artistic talents & improve drawing & painting skills\n\n* Create artworks using pencils\, colored pencils\, paints\, brushes & more!\n\n\n\nJan/Feb/Mar Class: January 11 - March 1\, 2011\n\n\n\nMar/Apr/May Class: March 22 - May 10\, 2011\n\n\n\nTuesdays\, 4:00 - 5:00pm\n\n\n\nInstructor: Lynn Dodson\n\n\n\nAges 9-12 8 Sessions
X-ALT-DESC;FMTTYPE=text/html:PENCILS INTO PAINT<br />\n<br />\n* Explore master artists? painting methods &amp\; techniques!<br />\n* Boost artistic talents &amp\; improve drawing &amp\; painting skills<br />\n* Create artworks using pencils\, colored pencils\, paints\, brushes &amp\; more!<br />\n<br />\nJan/Feb/Mar Class: January 11 - March 1\, 2011<br />\n<br />\nMar/Apr/May Class: March 22 - May 10\, 2011<br />\n<br />\nTuesdays\, 4:00 - 5:00pm<br />\n<br />\nInstructor: Lynn Dodson<br />\n<br />\nAges 9-12 8 Sessions 
LOCATION:Shelby County Arts Council Studio 104 Mildred St Columbiana\, AL 35051
UID:e.145.2863
SEQUENCE:3
DTSTAMP:20260426T021815Z
URL:https://business.shelbychamber.org/events/details/pencils-into-paint-05-03-2011-2863
END:VEVENT

END:VCALENDAR
