BEGIN:VCALENDAR
VERSION:2.0
PRODID:-//ChamberMaster//Event Calendar 2.0//EN
METHOD:PUBLISH
X-PUBLISHED-TTL:P3D
REFRESH-INTERVAL:P3D
CALSCALE:GREGORIAN
BEGIN:VEVENT
DTSTART;VALUE=DATE:20110913
DTEND;VALUE=DATE:20111102
TRANSP:TRANSPARENT
X-MICROSOFT-CDO-ALLDAYEVENT:TRUE
SUMMARY:Pencils Into Paint
DESCRIPTION:Explore master artists' painting methods and techniques!\n\nBoost artistic talents and improve drawing and painting skills.\n\nCreate artworks using pencils\, colored pencils\, paints\, brushes and more!
X-ALT-DESC;FMTTYPE=text/html:Explore master artists' painting methods and techniques!\n<br>Boost artistic talents and improve drawing and painting skills.\n<br>Create artworks using pencils\, colored pencils\, paints\, brushes and more!
LOCATION:Shelby County Arts Council Studio- 104 Mildred Street\, Columbiana\, AL 35051
UID:e.145.3309
SEQUENCE:3
DTSTAMP:20260425T182519Z
URL:https://business.shelbychamber.org/events/details/pencils-into-paint-09-13-2011-3309
END:VEVENT

END:VCALENDAR
