BEGIN:VCALENDAR
VERSION:2.0
PRODID:-//ChamberMaster//Event Calendar 2.0//EN
METHOD:PUBLISH
X-PUBLISHED-TTL:P3D
REFRESH-INTERVAL:P3D
CALSCALE:GREGORIAN
BEGIN:VEVENT
DTSTART:20160331T160000Z
DTEND:20160331T170000Z
X-MICROSOFT-CDO-ALLDAYEVENT:FALSE
SUMMARY:Perry's Steakhouse Ribbon Cutting
DESCRIPTION:Please join us for a Grand Opening ribbon cutting honoring Perry's Steakhouse.
X-ALT-DESC;FMTTYPE=text/html:Please join us for a Grand Opening ribbon cutting honoring Perry&#39\;s Steakhouse.
LOCATION:Perry's Steakhouse 4 Perimeter Park S. Birmingham\, AL 35243
UID:e.145.7971
SEQUENCE:3
DTSTAMP:20260422T093300Z
URL:https://business.shelbychamber.org/events/details/perry-s-steakhouse-ribbon-cutting-03-31-2016-7971
END:VEVENT

END:VCALENDAR
