BEGIN:VCALENDAR
VERSION:2.0
PRODID:-//ChamberMaster//Event Calendar 2.0//EN
METHOD:PUBLISH
X-PUBLISHED-TTL:P3D
REFRESH-INTERVAL:P3D
CALSCALE:GREGORIAN
BEGIN:VEVENT
DTSTART:20151013T210000Z
DTEND:20151013T220000Z
X-MICROSOFT-CDO-ALLDAYEVENT:FALSE
SUMMARY:Pete the Cat Book Club
DESCRIPTION:Join us for stories\, games\, groovy crafts\, and snacks. All ages welcome. Registration required.
X-ALT-DESC;FMTTYPE=text/html:Join us for stories\, games\, groovy crafts\, and snacks. All ages welcome. Registration required.&nbsp\;
LOCATION:North Shelby Library
UID:e.145.7891
SEQUENCE:3
DTSTAMP:20260422T154602Z
URL:https://business.shelbychamber.org/events/details/pete-the-cat-book-club-10-13-2015-7891
END:VEVENT

END:VCALENDAR
