BEGIN:VCALENDAR
VERSION:2.0
PRODID:-//ChamberMaster//Event Calendar 2.0//EN
METHOD:PUBLISH
X-PUBLISHED-TTL:P3D
REFRESH-INTERVAL:P3D
CALSCALE:GREGORIAN
BEGIN:VEVENT
DTSTART:20150915T210000Z
DTEND:20150915T220000Z
X-MICROSOFT-CDO-ALLDAYEVENT:FALSE
SUMMARY:Pete the Cat Bookclub
DESCRIPTION:Join us for stories\, games\, groovy crafts\, and snacks. All ages welcome. Registration required.
X-ALT-DESC;FMTTYPE=text/html:Join us for stories\, games\, groovy crafts\, and snacks. All ages welcome. Registration required.
LOCATION:North Shelby Library 5521 Cahaba Valley Rd. Birmingham\, AL 35242
UID:e.145.7177
SEQUENCE:3
DTSTAMP:20260422T171912Z
URL:https://business.shelbychamber.org/events/details/pete-the-cat-bookclub-09-15-2015-7177
END:VEVENT

END:VCALENDAR
