BEGIN:VCALENDAR
VERSION:2.0
PRODID:-//ChamberMaster//Event Calendar 2.0//EN
METHOD:PUBLISH
X-PUBLISHED-TTL:P3D
REFRESH-INTERVAL:P3D
CALSCALE:GREGORIAN
BEGIN:VEVENT
DTSTART:20161119T010000Z
DTEND:20161119T040000Z
X-MICROSOFT-CDO-ALLDAYEVENT:FALSE
SUMMARY:Phil Dudley Band
DESCRIPTION:The Phil Dudley Band will be performing live at the Shelby County Arts Council's Black Box Theater on Friday\, November 18th at 7:30pm. This is a great opportunity to see a talented young musician on the rise! The band will perform tracks from their upcoming album "Seasons" as well favorites from previous albums. Tickets for the performance are $15 and include a pre-show reception. Doors open at 7pm\, performance begins at 7:30pm. For more info or to purchase tickets for this event please visit www.shelbycountyartscouncil.com.
X-ALT-DESC;FMTTYPE=text/html:<span style="font-family:arial\,helvetica\,sans-serif\; font-size:12px">The Phil Dudley Band will be performing live at the Shelby County Arts Council&#39\;s Black Box Theater on Friday\, November 18th at 7:30pm. This is a great opportunity to see a talented young musician on the rise! The band will perform tracks from their upcoming album &ldquo\;Seasons&rdquo\; as well favorites from previous albums. Tickets for the performance are $15 and include a pre-show reception. Doors open at 7pm\, performance begins at 7:30pm. For more info or to purchase tickets for this event please visit www.shelbycountyartscouncil.com.</span>
LOCATION:Shelby County Arts Council Black Box Theatre 104 Mildred Street Columbiana\, AL 35051
UID:e.145.9799
SEQUENCE:3
DTSTAMP:20260421T145109Z
URL:https://business.shelbychamber.org/events/details/phil-dudley-band-9799
END:VEVENT

END:VCALENDAR
