BEGIN:VCALENDAR
VERSION:2.0
PRODID:-//ChamberMaster//Event Calendar 2.0//EN
METHOD:PUBLISH
X-PUBLISHED-TTL:P3D
REFRESH-INTERVAL:P3D
CALSCALE:GREGORIAN
BEGIN:VEVENT
DTSTART:20130504T150000Z
DTEND:20130504T163000Z
X-MICROSOFT-CDO-ALLDAYEVENT:FALSE
SUMMARY:Photography Hike
DESCRIPTION:Bring your camera for a photography hike. We will use our camera to hike through the woods. We will meet at the Old Tennis Courts on Terrace Drive. Parking is available at the Beach parking lot (3rd lot on right).
X-ALT-DESC;FMTTYPE=text/html:Bring your camera for a photography hike. We will use our camera to hike through the woods. We will meet at the Old Tennis Courts on Terrace Drive. Parking is available at the Beach parking lot (3rd lot on right).&nbsp\; 
LOCATION:Oak Mountain State Park - Old Tennis Courts
UID:e.145.4519
SEQUENCE:3
DTSTAMP:20260424T120101Z
URL:https://business.shelbychamber.org/events/details/photography-hike-05-04-2013-4519
END:VEVENT

END:VCALENDAR
